BEGIN:VCALENDAR
VERSION:2.0
PRODID:-//ChamberMaster//Event Calendar 2.0//EN
METHOD:PUBLISH
X-PUBLISHED-TTL:P3D
REFRESH-INTERVAL:P3D
CALSCALE:GREGORIAN
BEGIN:VEVENT
DTSTART:20140402T200000Z
DTEND:20140402T210000Z
X-MICROSOFT-CDO-ALLDAYEVENT:FALSE
SUMMARY:10\,000 PB&J Sandwiches Event
DESCRIPTION:On April 2nd\, National Peanut Butter and Jelly Day\, the family of Broughton Hotel employees will attempt to make 10\,000 peanut butter and jelly sandwiches in just ONE HOUR! \n\n\n\n We at Broughton Hotels have recently teamed up with several organizations including\, Sarah's Circle and St. Jerome Ministry\, to aid in the fight against hunger in Chicago.  With practice under our belts\, we now want to challenge ourselves and put our skills to the test. So\, we have set the bar high and we need your help to achieve our goal!\n\n\n\nWe are calling on you\, our friends and neighbors\, to unite with us in this cause\, a cause that is so prevalent in the city we call home\, by assembling teams of your own to join forces with us in this endeavor to "sandwich" hunger. If interested in volunteering on a team or donating goods\, please contact Courtney Willingham at     (773) 404-3496 or at courtney@broughtonhotels.com. All participating businesses and organizations will be recognized for their efforts.\n\n\n\nWe would also love to hear from any facility or group that is in need of the sandwiches that will be made.  So\, please\, come out to help us show the rest of Chicago what we think community is all about as we work to make a difference one sandwich at a time!
X-ALT-DESC;FMTTYPE=text/html:<span style="font-size:14px\;"><span style="font-family:arial\;"><span style="color:#222222\;">On April 2<sup>nd</sup>\, National Peanut Butter and Jelly Day\, the family of Broughton Hotel employees will <strong>attempt to make 10\,000 peanut butter and jelly sandwiches in just ONE HOUR!&nbsp\;</strong><br />\n<br />\n&nbsp\;We at Broughton Hotels have recently teamed up with several organizations including\, Sarah&rsquo\;s Circle and St. Jerome Ministry\, to aid in the fight against hunger in&nbsp\;Chicago.&nbsp\; With practice under our belts\, we now want to challenge ourselves and put our skills to the test. So\, we have set the bar high and we need your help to achieve our goal!<br />\n<br />\nWe are calling on you\, our friends and neighbors\, to unite with us in this cause\, a cause that is so prevalent in the city we call home\, by assembling teams of your own to join forces with us in this endeavor to &ldquo\;sandwich&rdquo\; hunger.&nbsp\;</span><span style="color:#222222\;">If interested in volunteering on a team or donating goods\, please contact Courtney Willingham at&nbsp\;&nbsp\;&nbsp\;&nbsp\; </span><a href="tel:%28773%29%20404-3496" target="_blank"><span style="color:#1155CC\;">(773) 404-3496</span></a><span style="color:#222222\;"> or at&nbsp\;</span><a href="mailto:courtney@broughtonhotels.com" target="_blank"><span style="color:#1155CC\;">courtney@broughtonhotels.com</span></a><span style="color:#222222\;">. All participating businesses and organizations will be recognized for their efforts.<br />\n<br />\nWe would also love to hear from any facility or group that is in need of the sandwiches that will be made.&nbsp\; So\, please\, come out to help us show the rest of&nbsp\;Chicago&nbsp\;what we think community is all about as we work to make a difference&hellip\;one sandwich at a time!</span></span></span><br />\n<br />\n&nbsp\;
LOCATION:Outdoor Location: Brompton street\, between Pine Grove and Lake Shore
UID:e.1819.238
SEQUENCE:3
DTSTAMP:20260424T121037Z
URL:https://members.lakeviewroscoevillage.org/events/details/10-000-pb-j-sandwiches-event-04-02-2014-238
END:VEVENT

END:VCALENDAR
