BEGIN:VCALENDAR
VERSION:2.0
PRODID:-//ChamberMaster//Event Calendar 2.0//EN
METHOD:PUBLISH
X-PUBLISHED-TTL:P3D
REFRESH-INTERVAL:P3D
CALSCALE:GREGORIAN
BEGIN:VEVENT
DTSTART:20131026T170000Z
DTEND:20131026T200000Z
X-MICROSOFT-CDO-ALLDAYEVENT:FALSE
SUMMARY:10th Annual Mutt Strutt- new date!
DESCRIPTION:Dog lovers and their four-legged friends are invited for a 1.5 mile walk with their "mutt\," followed by a block party with food\, entertainment and more! Proceeds from this family-friendly event directly benefit Chicago Canine Rescue (CCR).\n\n\n\nProud CCR supporters\, syndicated pet radio personality and pet expert Steve Dale and Kye Martin of NBC5\, will be the celebrity emcees of the event. Kye and her husband adopted Bo\, a 90 lb. Shepherd Mix after meeting him at a previous Mutt Strut!
X-ALT-DESC;FMTTYPE=text/html:<span style="font-size: 11pt\;"><span style="font-family: georgia\,serif\;"><span style="color: black\;">Dog lovers and their four-legged friends are invited for a 1.5 mile walk with their &ldquo\;mutt\,&rdquo\; followed by a block party with food\, entertainment and more! Proceeds from this family-friendly event directly benefit Chicago Canine Rescue (CCR).<br />\n<br />\n<span style="font-size: 11pt\;"><span style="font-family: georgia\,serif\;"><span style="color: black\;"><span style="font-size: 11pt\;"><span style="font-family: georgia\,serif\;">Proud CCR supporters\, <strong>syndicated pet radio personality and pet expert Steve Dale </strong>and <strong>Kye Martin of NBC5</strong>\, will be the celebrity emcees of the event. Kye and her husband adopted Bo\, a 90 lb. Shepherd Mix after meeting him at a previous Mutt Strut! </span></span></span></span></span></span></span></span><br />\n<br />\n<br />\n<br />\n<br />\n
LOCATION:11am Registration outside Newport Bar & Grill on Newport Ave/Southport Ave in Lakeview\, Chicago\, IL 12pm 1.5 mile walk starts
UID:e.1819.88
SEQUENCE:3
DTSTAMP:20260424T224413Z
URL:https://members.lakeviewroscoevillage.org/events/details/10th-annual-mutt-strutt-new-date-10-26-2013-88
END:VEVENT

END:VCALENDAR
