BEGIN:VCALENDAR
VERSION:2.0
PRODID:-//ChamberMaster//Event Calendar 2.0//EN
METHOD:PUBLISH
X-PUBLISHED-TTL:P3D
REFRESH-INTERVAL:P3D
CALSCALE:GREGORIAN
BEGIN:VEVENT
DTSTART:20140913T160000Z
DTEND:20140913T200000Z
X-MICROSOFT-CDO-ALLDAYEVENT:FALSE
SUMMARY:11th Annual Mutt Strut
DESCRIPTION:Chicago Canine Rescue?s 11th Annual Mutt Strut\, on Saturday\, September 13\, 2014\, is one of Chicago?s premier\, outdoor\, pet and family friendly events.\n\n\n\nThe 1.5 mile walk takes place in the Lakeview neighborhood passing by historic Wrigley Field and finishing up with a fun-filled block party. Walk participants will enjoy a goody bag\, give-a-ways\, silent auction\, music\, contests\, activities\, prizes\, food and refreshments.\n\n\n\nOur adoptable dogs will be on hand to enjoy the day as well\, and their presence reminds us all that Chicago Canine Rescue's existence is vital to them. The funds raised through sponsorships and the public's participation in this event aid the mission of Chicago Canine Rescue to help find permanent\, loving homes for homeless dogs in our city. Since 2001\, our dedicated organization has saved the lives of thousands of dogs\, cats\, kittens and puppies.'\n\n\n\n\n\nCCR helps some of the Midwest?s most vulnerable animals ? dogs with broken bones\, senior dogs that require dental surgeries\, moms with nursing pups\, dogs with disabilities\, heartworm disease\, skin problems and infections?our list goes on and on.We invite you to join our efforts in saving canine lives by getting involved with Mutt Strut.
X-ALT-DESC;FMTTYPE=text/html:Chicago Canine Rescue?s 11th Annual Mutt Strut\, on Saturday\, September 13\, 2014\, is one of Chicago?s premier\, outdoor\, pet and family friendly events.<br />\n<br />\nThe 1.5 mile walk takes place in the Lakeview neighborhood passing by historic Wrigley Field and finishing up with a fun-filled block party. Walk participants will enjoy a goody bag\, give-a-ways\, silent auction\, music\, contests\, activities\, prizes\, food and refreshments.<br />\n<br />\nOur adoptable dogs will be on hand to enjoy the day as well\, and their presence reminds us all that Chicago Canine Rescue&#39\;s existence is vital to them. The funds raised through sponsorships and the public&#39\;s participation in this event aid the mission of Chicago Canine Rescue to help find permanent\, loving homes for homeless dogs in our city. Since 2001\, our dedicated organization has saved the lives of thousands of dogs\, cats\, kittens and puppies.&#39\;<br />\n<br />\n<br />\nCCR helps some of the Midwest?s most vulnerable animals ? dogs with broken bones\, senior dogs that require dental surgeries\, moms with nursing pups\, dogs with disabilities\, heartworm disease\, skin problems and infections?our list goes on and on.We invite you to join our efforts in saving canine lives by getting involved with Mutt Strut.
LOCATION:Newport Ave off of Southport Ave
UID:e.1819.337
SEQUENCE:3
DTSTAMP:20260424T002440Z
URL:https://members.lakeviewroscoevillage.org/events/details/11th-annual-mutt-strut-09-13-2014-337
END:VEVENT

END:VCALENDAR
