BEGIN:VCALENDAR
VERSION:2.0
PRODID:-//ChamberMaster//Event Calendar 2.0//EN
METHOD:PUBLISH
X-PUBLISHED-TTL:P3D
REFRESH-INTERVAL:P3D
CALSCALE:GREGORIAN
BEGIN:VEVENT
DTSTART:20131114T233000Z
DTEND:20131115T013000Z
X-MICROSOFT-CDO-ALLDAYEVENT:FALSE
SUMMARY:11th Annual Networking Extravaganza
DESCRIPTION:Don't miss the 11th annual Networking Extravaganza \, a mutli-chamber networking event bringing together business professionals from the north side of Chicago!\n\n\n\nMake high-level connections while enjoying great conversation\, hors d'oeuvres\, wine and beer.\n\n\n\nParticipating Organizations: Andersonville Chamber of Commerce\; Central Lakeview Merchants Association\; Edgewater Chamber of Commerce\; Gay & Lesbian Chamber of Commerce\; Lakeview Chamber of Commerce\; Lakeview East Chamber of Commerce\; Lincoln Bend Chamber of Commerce\; Lincoln Park Chamber of Commerce\; Lincoln Square Chamber of Commerce\; Northcenter Chamber of Commerce\; Roscoe Village Chamber of Commerce\; Six Corners Association\; Streeterville Chamber of Commerce\; Business Partners\, The Chamber for Uptown\; West Ridge Chamber of Commerce\; West Town Chamber of Commerce\; and the Wicker Park Bucktown Chamber of Commerce.
X-ALT-DESC;FMTTYPE=text/html:<span style="font-size: 14px\;"><span style="font-family: times new roman\;">Don&#39\;t miss the 11th annual Networking Extravaganza \, a mutli-chamber networking event bringing together business professionals from the north side of Chicago!<br />\n<br />\nMake high-level connections while enjoying great conversation\, hors d&#39\;oeuvres\, wine and beer.<br />\n<br />\nParticipating Organizations: Andersonville Chamber of Commerce\; Central Lakeview Merchants Association\; Edgewater Chamber of Commerce\; Gay &amp\; Lesbian Chamber of Commerce\; Lakeview Chamber of Commerce\; Lakeview East Chamber of Commerce\; Lincoln Bend Chamber of Commerce\; Lincoln Park Chamber of Commerce\; Lincoln Square Chamber of Commerce\; Northcenter Chamber of Commerce\; Roscoe Village Chamber of Commerce\; Six Corners Association\; Streeterville Chamber of Commerce\; Business Partners\, The Chamber for Uptown\; West Ridge Chamber of Commerce\; West Town Chamber of Commerce\; and the Wicker Park Bucktown Chamber of Commerce. </span></span>
LOCATION:The Lion's Head Pub 2251 N. Lincoln Ave
UID:e.1819.95
SEQUENCE:3
DTSTAMP:20260424T223831Z
URL:https://members.lakeviewroscoevillage.org/events/details/11th-annual-networking-extravaganza-11-14-2013-95
END:VEVENT

END:VCALENDAR
