BEGIN:VCALENDAR
VERSION:2.0
PRODID:-//ChamberMaster//Event Calendar 2.0//EN
METHOD:PUBLISH
X-PUBLISHED-TTL:P3D
REFRESH-INTERVAL:P3D
CALSCALE:GREGORIAN
BEGIN:VEVENT
DTSTART;VALUE=DATE:20171212
DTEND;VALUE=DATE:20171225
TRANSP:TRANSPARENT
X-MICROSOFT-CDO-ALLDAYEVENT:TRUE
SUMMARY:12 Days of Deals with Stella Blue Design!
DESCRIPTION:
X-ALT-DESC;FMTTYPE=text/html:
LOCATION:3714 N Southport\, #Ground
UID:e.1819.11252
SEQUENCE:3
DTSTAMP:20260419T125038Z
URL:https://members.lakeviewroscoevillage.org/events/details/12-days-of-deals-with-stella-blue-design-12-12-2017-11252
END:VEVENT

END:VCALENDAR
