BEGIN:VCALENDAR
VERSION:2.0
PRODID:-//ChamberMaster//Event Calendar 2.0//EN
METHOD:PUBLISH
X-PUBLISHED-TTL:P3D
REFRESH-INTERVAL:P3D
CALSCALE:GREGORIAN
BEGIN:VEVENT
DTSTART:20141031T200000Z
DTEND:20141031T230000Z
X-MICROSOFT-CDO-ALLDAYEVENT:FALSE
SUMMARY:15th Annual Paulina Station Merchants Trick or Treat
DESCRIPTION:It's the annual Halloween Walk for kids from 3pm to 6pm on Halloween\, October 31st.  Join us on the 3300 block and 3400 block of North Lincoln Avenue and Paulina for a Safe Trick or Treat for Kids.  Treats for the kids furnished by the local area merchants.\n\n\n\nSponsored by:\n\nCentral Savings\, Alderman Waguespack\, The Lakeview Chamber of Commerce\, State Representative Ann Williams and Lakeview Newspaper\n\n\n\nOrganized by:\n\nLakeview Newspaper
X-ALT-DESC;FMTTYPE=text/html:It&#39\;s the annual Halloween Walk for kids from 3pm to 6pm on Halloween\, October 31st. &nbsp\;Join us on the 3300 block and 3400 block of North Lincoln Avenue and Paulina&nbsp\;for a Safe Trick or Treat for Kids. &nbsp\;Treats for the kids furnished by the local area merchants.<br />\n<br />\nSponsored by:<br />\nCentral Savings\, Alderman Waguespack\, The Lakeview Chamber of Commerce\, State Representative Ann Williams and Lakeview Newspaper<br />\n<br />\nOrganized by:<br />\nLakeview Newspaper
LOCATION:3300 block and 3400 block of North Lincoln Avenue and Paulina
UID:e.1819.494
SEQUENCE:3
DTSTAMP:20260423T225422Z
URL:https://members.lakeviewroscoevillage.org/events/details/15th-annual-paulina-station-merchants-trick-or-treat-10-31-2014-494
END:VEVENT

END:VCALENDAR
