BEGIN:VCALENDAR
VERSION:2.0
PRODID:-//ChamberMaster//Event Calendar 2.0//EN
METHOD:PUBLISH
X-PUBLISHED-TTL:P3D
REFRESH-INTERVAL:P3D
CALSCALE:GREGORIAN
BEGIN:VEVENT
DTSTART:20150615T163000Z
DTEND:20150615T180000Z
X-MICROSOFT-CDO-ALLDAYEVENT:FALSE
SUMMARY:19th Annual Lead Off Luncheon
DESCRIPTION:The Lakeview Chamber of Commerce is proud to announce our\n\n19th Annual Lead Off Luncheon with the Chicago CUBS.\n\n\n\nFeaturing guest speaker\, Tom Ricketts\, Chairman of the Chicago CUBS. We hope you will join us for an afternoon of exciting conversation and networking.\n\n\n\n11:30AM Registration & Networking\n\n12:00PM Program & Lunch. \n\n\n\nRSVP by Friday\, June 5\n\nOpen to Lakeview Chamber members and non-members. \n\nTickets will not be available at the door.\n\n\n\nDirections: enter thru outdoor patio at Captain Morgan Club at 1060 W Addison\n\nParking: available on a first come\, first serve basis in the Cubs Green Lot on Grace near Clifton
X-ALT-DESC;FMTTYPE=text/html:<span style="font-family:arial\;"><span style="font-size:14px\;"><span style="color: rgb(80\, 80\, 80)\; line-height: 21px\; text-align: center\;">The Lakeview Chamber of Commerce is proud to announce our<br />\n19th&nbsp\;Annual Lead Off Luncheon with the Chicago CUBS.<br />\n<br />\nFeaturing guest speaker\, Tom&nbsp\;Ricketts\, Chairman of the Chicago CUBS.&nbsp\;</span></span></span><span style="font-size: 14px\; font-family: arial\; color: rgb(102\, 102\, 102)\; line-height: normal\; text-align: center\;">We hope you will join us for an afternoon of exciting conversation and&nbsp\;networking.</span><br />\n<br />\n<span style="line-height: 1.6em\; font-size: 14px\; font-family: arial\; color: rgb(102\, 102\, 102)\; text-align: center\;">11:</span><span style="line-height: 1.6em\; font-size: 14px\; font-family: arial\; color: rgb(102\, 102\, 102)\; text-align: center\;">30AM</span><span style="line-height: 1.6em\; font-size: 14px\; font-family: arial\; color: rgb(102\, 102\, 102)\; text-align: center\;">&nbsp\;Registration &amp\; Networking</span><br />\n<span style="font-size: 14px\; font-family: arial\; color: rgb(102\, 102\, 102)\; text-align: center\; line-height: 1.6em\;">12:</span>00PM<span style="font-size: 14px\; font-family: arial\; color: rgb(102\, 102\, 102)\; text-align: center\; line-height: 1.6em\;">&nbsp\;Program &amp\; Lunch.&nbsp\;</span><br />\n<br />\n<span style="font-size: 14px\; font-family: arial\; color: rgb(102\, 102\, 102)\; line-height: normal\; text-align: center\;">RSVP by Friday\, June 5</span><br />\n<span style="font-size: 14px\; font-family: arial\; color: rgb(102\, 102\, 102)\; line-height: normal\; text-align: center\;">Open to Lakeview Chamber members and non-members.&nbsp\;</span><br />\n<em style="font-size: 14px\; font-family: arial\; color: rgb(102\, 102\, 102)\; line-height: normal\; text-align: center\;">Tickets will not be available at the door.</em><br />\n<br />\n<span style="font-size: 14px\; font-family: arial\; color: rgb(102\, 102\, 102)\; line-height: normal\; text-align: center\;">Directions: enter thru outdoor patio at Captain Morgan Club at 1060 W Addison<br />\nParking: available on a first come\, first serve basis in the Cubs Green Lot on Grace near Clifton</span><br />\n&nbsp\;
LOCATION:Audi Club at Wrigley Field
UID:e.1819.1566
SEQUENCE:3
DTSTAMP:20260423T074003Z
URL:https://members.lakeviewroscoevillage.org/events/details/19th-annual-lead-off-luncheon-06-15-2015-1566
END:VEVENT

END:VCALENDAR
