BEGIN:VCALENDAR
VERSION:2.0
PRODID:-//ChamberMaster//Event Calendar 2.0//EN
METHOD:PUBLISH
X-PUBLISHED-TTL:P3D
REFRESH-INTERVAL:P3D
CALSCALE:GREGORIAN
BEGIN:VEVENT
DTSTART:20141205T230000Z
DTEND:20141206T030000Z
X-MICROSOFT-CDO-ALLDAYEVENT:FALSE
SUMMARY:19th Annual Southport Holiday Stroll
DESCRIPTION:It's time for our 19th Annual Southport Holiday Stroll!\n\n\n\nBring the family and enjoy festive lights\, Vintage Carolers\, Santa & Mrs. Claus\, and plenty of holiday cheer.\n\n\n\nPlus\, participating Southport businesses will be open late offering refreshments and shopping incentives!
X-ALT-DESC;FMTTYPE=text/html:<span style="font-size: 12px\;"><span style="font-family: tahoma\;">It&#39\;s time for our 19th Annual Southport Holiday Stroll!<br />\n<br />\nBring the family and enjoy festive lights\, Vintage Carolers\, Santa &amp\; Mrs. Claus\, and plenty of holiday cheer.<br />\n<br />\nPlus\, participating Southport businesses will be open late offering refreshments and shopping incentives!</span></span><br />\n&nbsp\;
LOCATION:Southport Avenue (Addison - Belmont) Lakeview\, Chicago\, IL
UID:e.1819.131
SEQUENCE:3
DTSTAMP:20260423T190212Z
URL:https://members.lakeviewroscoevillage.org/events/details/19th-annual-southport-holiday-stroll-12-05-2014-131
END:VEVENT

END:VCALENDAR
