BEGIN:VCALENDAR
VERSION:2.0
PRODID:-//ChamberMaster//Event Calendar 2.0//EN
METHOD:PUBLISH
X-PUBLISHED-TTL:P3D
REFRESH-INTERVAL:P3D
CALSCALE:GREGORIAN
BEGIN:VEVENT
DTSTART:20140304T210000Z
DTEND:20140304T220000Z
X-MICROSOFT-CDO-ALLDAYEVENT:FALSE
SUMMARY:19th District Bar Meeting
DESCRIPTION:City of Chicago\n\nDepartment of Police\n\n19th District\n\n\n\nWe are having a meeting on March 4\, 2014 at 3pm in the 19th district community room. Your attendance will be required to ensure all measures that are necessary to assist us in proper preparations for this upcoming summer season. We will be discussing certain details and getting input from the liquor licensee holders.\n\n\n\n1. Plans for internal security\n\n2. Reviews of guidelines that could ultimately affect your liquor license\n\n3. Discussing events that are occurring around the area/neighborhood. \n\n4. Discussing the areas you as a Business owner are responsible in maintaining keeping celebrations inside your establishments.\n\n5. Leaving exterior and interior lights on during non-business hours\n\n6. Discussing Police responsibilities and functions\n\n\n\nBy working together\, it is my belief and hope that we can make this a safe and memorable season. I look forward to seeing you at the meeting.\n\n\n\nElias Voulgaris\n\nCommander\n\n19th District
X-ALT-DESC;FMTTYPE=text/html:City of Chicago<br />\nDepartment of Police<br />\n19th District<br />\n<br />\nWe are having a meeting on March 4\, 2014 at 3pm in the 19th district community room. Your attendance will be required to ensure all measures that are necessary to assist us in proper preparations for this upcoming summer season. We will be discussing certain details and getting input from the liquor licensee holders.<br />\n<br />\n1. Plans for internal security<br />\n2. Reviews of guidelines that could ultimately affect your liquor license<br />\n3. Discussing events that are occurring around the area/neighborhood.&nbsp\;<br />\n4. Discussing the areas you as a Business owner are responsible in maintaining keeping celebrations inside your establishments.<br />\n5. Leaving exterior and interior lights on during non-business hours<br />\n6. Discussing Police responsibilities and functions<br />\n<br />\nBy working together\, it is my belief and hope that we can make this a safe and memorable season. I look forward to seeing you at the meeting.<br />\n<br />\nElias Voulgaris<br />\nCommander<br />\n19th District<br />\n<br />\n<br />\n&nbsp\;
LOCATION:19th District Police Station 850 W. Addison Street Chicago\, IL 60613
UID:e.1819.212
SEQUENCE:3
DTSTAMP:20260424T135459Z
URL:https://members.lakeviewroscoevillage.org/events/details/19th-district-bar-meeting-03-04-2014-212
END:VEVENT

END:VCALENDAR
