BEGIN:VCALENDAR
VERSION:2.0
PRODID:-//ChamberMaster//Event Calendar 2.0//EN
METHOD:PUBLISH
X-PUBLISHED-TTL:P3D
REFRESH-INTERVAL:P3D
CALSCALE:GREGORIAN
BEGIN:VEVENT
DTSTART:20131215T190000Z
DTEND:20131215T230000Z
X-MICROSOFT-CDO-ALLDAYEVENT:FALSE
SUMMARY:1st Annual Chili Cookoff
DESCRIPTION:Bring in your best Chili for our 1st Annual Cookoff! \n\n	\n\n	Prizes:\n\n	1st Place $100 Cash!\n\n	2nd Place $50 Gift Certificate\n\n	3rd Place $25 Gift Certificate\n\n	\n\n	Judging takes place from 1pm-5pm! \n\n	\n\n	$10 Miller Buckets & $4 Stoli Bacon Bloody Marys!
X-ALT-DESC;FMTTYPE=text/html:<p id="yui_3_10_1_1_1386184279911_226">\n	Bring in your best Chili for our 1st Annual Cookoff!&nbsp\;<br />\n	<br />\n	Prizes:<br />\n	1st Place $100 Cash!<br />\n	2nd Place $50 Gift Certificate<br />\n	3rd Place $25 Gift Certificate<br />\n	<br />\n	Judging takes place from 1pm-5pm!&nbsp\;<br />\n	<br />\n	$10 Miller Buckets &amp\; $4 Stoli Bacon Bloody Marys!</p>\n
LOCATION:Burke's Patio & Tap 2913 N. Lincoln Ave Chicago\, IL 60657
UID:e.1819.145
SEQUENCE:3
DTSTAMP:20260424T190148Z
URL:https://members.lakeviewroscoevillage.org/events/details/1st-annual-chili-cookoff-12-15-2013-145
END:VEVENT

END:VCALENDAR
