BEGIN:VCALENDAR
VERSION:2.0
PRODID:-//ChamberMaster//Event Calendar 2.0//EN
METHOD:PUBLISH
X-PUBLISHED-TTL:P3D
REFRESH-INTERVAL:P3D
CALSCALE:GREGORIAN
BEGIN:VEVENT
DTSTART;VALUE=DATE:20140329
DTEND;VALUE=DATE:20140330
TRANSP:TRANSPARENT
X-MICROSOFT-CDO-ALLDAYEVENT:TRUE
SUMMARY:2014 Annual CDOT Landscape Maintenance Seminar
DESCRIPTION:The Annual Chicago Department of Transportation (CDOT) Landscape Maintenance Seminar is back! Join us on Saturday\, March 29th at the Chicago Center for Green Technology to hear the latest news on plants\, planting techniques\, sustainability and best practices.\n\n\n\nClick for Flyer!
X-ALT-DESC;FMTTYPE=text/html:<span style="font-family:calibri\,sans-serif\;"><span style="font-size:11.0pt\;">The Annual Chicago Department of Transportation (CDOT) Landscape Maintenance Seminar is back! Join us on Saturday\, March 29<sup>th</sup> at the Chicago Center for Green Technology to hear the latest news on plants\, planting techniques\, sustainability and best practices.<br />\n<br />\n<a href="http://cloud.chambermaster.com/userfiles/UserFiles/chambers/1819/File/MaintSeminar-Invitation2014.pdf">Click for Flyer!</a></span></span><br />\n&nbsp\;
LOCATION:Chicago Center for Green Technology 445 N. Sacramento Blvd.
UID:e.1819.224
SEQUENCE:3
DTSTAMP:20260424T135634Z
URL:https://members.lakeviewroscoevillage.org/events/details/2014-annual-cdot-landscape-maintenance-seminar-03-29-2014-224
END:VEVENT

END:VCALENDAR
