BEGIN:VCALENDAR
VERSION:2.0
PRODID:-//ChamberMaster//Event Calendar 2.0//EN
METHOD:PUBLISH
X-PUBLISHED-TTL:P3D
REFRESH-INTERVAL:P3D
CALSCALE:GREGORIAN
BEGIN:VEVENT
DTSTART:20170726T223000Z
DTEND:20170727T003000Z
X-MICROSOFT-CDO-ALLDAYEVENT:FALSE
SUMMARY:2017 Lakeview/Lincoln Park/Roscoe Village Joint Networking After Hours
DESCRIPTION:Join us for our mid-summer networking event with the Lincoln Park and Roscoe Village Chambers of Commerce. Enjoy amazing city views and fantastic bites and drinks\, as you kick back and watch the sunset from Xavier's outdoor roof deck and indoor lounge. This unique Business After Hours is the perfect setting to connect with professionals frm all across the north side of Chicago.
X-ALT-DESC;FMTTYPE=text/html:<span style="color: rgb(51\, 51\, 51)\; font-family: arial\; font-size: 14px\; background-color: rgb(255\, 255\, 255)\;">Join us for our mid-summer networking event with the <strong><a href="http://www.lincolnparkchamber.com/">Lincoln Park</a></strong></span><span style="color: rgb(51\, 51\, 51)\; font-family: arial\; font-size: 14px\; background-color: rgb(255\, 255\, 255)\;">&nbsp\;and&nbsp\;</span><a alt="https://www.rvcc.biz/" href="http://r20.rs6.net/tn.jsp?f=001q0kLi4GTMpY7sCn2t8z_cEYe8nICPV8hdeA9wQdW0Xr1VsOB5JQyG10ZIkJ-bc4OI0zBNnV77XBH7pEHoOua7VgTj85ibtfw1ULIrhzHh0GdvymH46OaGEgINB3dvUQ6SPkPi26vzk9GgnUL9ac3N6lWsrOGFFmXwyqM36kaDDw=&amp\;c=wPTqXN8E482cd4AJ57WV_YH2VnHM436iqmSZCgrnV_igkEx3X07ESA==&amp\;ch=T1KOwEdtP_ufxChz1TN05RKOFR4a8QF3ZCSii52MCll73OqaMZiBKw==" linktype="1" shape="rect" style="transition: 0.3s\; font-weight: 700\; font-family: arial\; font-size: 14px\; background-color: rgb(255\, 255\, 255)\;" target="_blank" track="on">Roscoe Village</a><span style="color: rgb(51\, 51\, 51)\; font-family: arial\; font-size: 14px\; background-color: rgb(255\, 255\, 255)\;">&nbsp\;Chambers of Commerce. Enjoy amazing city views and fantastic bites and drinks\, as you kick back and watch the sunset from Xavier&#39\;s outdoor roof deck and indoor lounge. This unique Business After Hours is the perfect setting to connect with professionals frm all across the north side of Chicago.&nbsp\;</span>
LOCATION:Xavier 625 W. Division
UID:e.1819.5183
SEQUENCE:3
DTSTAMP:20260419T142922Z
URL:https://members.lakeviewroscoevillage.org/events/details/2017-lakeview-lincoln-park-roscoe-village-joint-networking-after-hours-07-26-2017-5183
END:VEVENT

END:VCALENDAR
