BEGIN:VCALENDAR
VERSION:2.0
PRODID:-//ChamberMaster//Event Calendar 2.0//EN
METHOD:PUBLISH
X-PUBLISHED-TTL:P3D
REFRESH-INTERVAL:P3D
CALSCALE:GREGORIAN
BEGIN:VEVENT
DTSTART:20131214T170000Z
DTEND:20131214T190000Z
X-MICROSOFT-CDO-ALLDAYEVENT:FALSE
SUMMARY:24th Annual Community Memorial Service at Lakeview Funeral Home
DESCRIPTION:Lakeview Funeral Home invites you\, family & friends to a time of giving thanks for the blessings of lives shared. Join for prayer\, song and thanksgiving.\n\n\n\nFlyer
X-ALT-DESC;FMTTYPE=text/html:Lakeview Funeral Home invites you\, family &amp\; friends to a time of giving thanks for the blessings of lives shared. Join for prayer\, song and thanksgiving.<br />\n<br />\n<a href="http://cloud.chambermaster.com/userfiles/UserFiles/chambers/1819/File/LakeviewFuneralHomeCommunityService.jpg">Flyer</a>
LOCATION:Lakeview Funeral Home 1458 W. Belmont Ave.
UID:e.1819.133
SEQUENCE:3
DTSTAMP:20260424T205958Z
URL:https://members.lakeviewroscoevillage.org/events/details/24th-annual-community-memorial-service-at-lakeview-funeral-home-12-14-2013-133
END:VEVENT

END:VCALENDAR
