BEGIN:VCALENDAR
VERSION:2.0
PRODID:-//ChamberMaster//Event Calendar 2.0//EN
METHOD:PUBLISH
X-PUBLISHED-TTL:P3D
REFRESH-INTERVAL:P3D
CALSCALE:GREGORIAN
BEGIN:VEVENT
DTSTART:20141206T170000Z
DTEND:20141206T180000Z
X-MICROSOFT-CDO-ALLDAYEVENT:FALSE
SUMMARY:25th Annual Community Memorial Service
DESCRIPTION:25th Annual Community Memorial Service
X-ALT-DESC;FMTTYPE=text/html:25th Annual Community Memorial Service
LOCATION:Lakeview Funeral Home 1458 W Belmont Ave
UID:e.1819.722
SEQUENCE:3
DTSTAMP:20260423T190009Z
URL:https://members.lakeviewroscoevillage.org/events/details/25th-annual-community-memorial-service-12-06-2014-722
END:VEVENT

END:VCALENDAR
