BEGIN:VCALENDAR
VERSION:2.0
PRODID:-//ChamberMaster//Event Calendar 2.0//EN
METHOD:PUBLISH
X-PUBLISHED-TTL:P3D
REFRESH-INTERVAL:P3D
CALSCALE:GREGORIAN
BEGIN:VEVENT
DTSTART:20140715T230000Z
DTEND:20140716T020000Z
X-MICROSOFT-CDO-ALLDAYEVENT:FALSE
SUMMARY:312 Chicago Garden Party
DESCRIPTION:Celebrate Local Food at 312 Chicago\, July 15! At this special event on July 15th at 6pm.\n\n\n\nChef Luca from 312 Chicago will wow your palate with garden fresh produce from Lakeview's Low-Line Market as well as his roof top garden!\n\n\n\nAlso enjoy spirits from local distillery Koval. It's summer and 312 Chicago wants to celebrate what Mother Nature has to offer! Seating is limited.\n\n\n\nReservations can be made via phone (312) 696-2420.\n\nLearn more (PDF): http://www.312chicago.com/files/pdf/media_117.pdf
X-ALT-DESC;FMTTYPE=text/html:Celebrate Local Food at 312 Chicago\, July 15! At this special event on July 15th at 6pm.<br />\n<br />\nChef Luca from 312 Chicago will wow your palate with garden fresh produce from Lakeview&#39\;s Low-Line Market as well as his roof top garden!<br />\n<br />\nAlso enjoy spirits from local distillery Koval. It&#39\;s summer and 312 Chicago wants to celebrate what Mother Nature has to offer! Seating is limited.<br />\n<br />\nReservations can be made via phone (312) 696-2420.<br />\nLearn more (PDF):&nbsp\;http://www.312chicago.com/files/pdf/media_117.pdf
LOCATION:
UID:e.1819.330
SEQUENCE:3
DTSTAMP:20260424T050922Z
URL:https://members.lakeviewroscoevillage.org/events/details/312-chicago-garden-party-07-15-2014-330
END:VEVENT

END:VCALENDAR
