BEGIN:VCALENDAR
VERSION:2.0
PRODID:-//ChamberMaster//Event Calendar 2.0//EN
METHOD:PUBLISH
X-PUBLISHED-TTL:P3D
REFRESH-INTERVAL:P3D
CALSCALE:GREGORIAN
BEGIN:VEVENT
DTSTART:20140118T150000Z
DTEND:20140119T000000Z
X-MICROSOFT-CDO-ALLDAYEVENT:FALSE
SUMMARY:40/30/20...50 Sale at M2
DESCRIPTION:That's right\, you have a chance to get 50% off your entire purchase!\n\n\n\nHere's how it works:\n\n\n\n\n\n9am-11am 40% off everything\n\n11am-2pm 30% off everything with a chance to get 50% off\n\n2pm-6pm 20% off everything with a chance to get 50% off
X-ALT-DESC;FMTTYPE=text/html:That&#39\;s right\, you have a chance to get 50% off your entire purchase!<br />\n<br />\nHere&#39\;s how it works:<br />\n<br />\n<br />\n9am-11am 40% off everything<br />\n11am-2pm 30% off everything with a chance to get 50% off<br />\n2pm-6pm 20% off everything with a chance to get 50% off
LOCATION:M2 Boutique 3527 N. Southport Chicago\, IL 60657
UID:e.1819.180
SEQUENCE:3
DTSTAMP:20260424T172917Z
URL:https://members.lakeviewroscoevillage.org/events/details/40-30-20-50-sale-at-m2-01-18-2014-180
END:VEVENT

END:VCALENDAR
