BEGIN:VCALENDAR
VERSION:2.0
PRODID:-//ChamberMaster//Event Calendar 2.0//EN
METHOD:PUBLISH
X-PUBLISHED-TTL:P3D
REFRESH-INTERVAL:P3D
CALSCALE:GREGORIAN
BEGIN:VEVENT
DTSTART:20150716T140000Z
DTEND:20150716T170000Z
X-MICROSOFT-CDO-ALLDAYEVENT:FALSE
SUMMARY:44th Ward Property Tax Assistance
DESCRIPTION:Staff from Cook County Commissioner Bridget Gainer's Office will be available to assist all homeowners with their property tax questions.  Please bring your 2014 second installment property tax bill (the "yellow form") & staff will review each tax bill to ensure all eligible exemptions have applied and free from any errors.
X-ALT-DESC;FMTTYPE=text/html:<p>Staff from Cook County Commissioner Bridget Gainer&#39\;s Office will be available to assist all homeowners with their property tax questions. &nbsp\;Please bring your 2014 second installment property tax bill (the &quot\;yellow form&quot\;) &amp\; staff will review each tax bill to ensure all eligible exemptions have applied and free from any errors.&nbsp\;&nbsp\;&nbsp\;&nbsp\;&nbsp\;&nbsp\;&nbsp\;&nbsp\;</p>\n
LOCATION:Alderman Tom Tunney's 44th Ward Office 3223 N Sheffield
UID:e.1819.1802
SEQUENCE:3
DTSTAMP:20260423T074134Z
URL:https://members.lakeviewroscoevillage.org/events/details/44th-ward-property-tax-assistance-07-16-2015-1802
END:VEVENT

END:VCALENDAR
