BEGIN:VCALENDAR
VERSION:2.0
PRODID:-//ChamberMaster//Event Calendar 2.0//EN
METHOD:PUBLISH
X-PUBLISHED-TTL:P3D
REFRESH-INTERVAL:P3D
CALSCALE:GREGORIAN
BEGIN:VEVENT
DTSTART;VALUE=DATE:20140201
DTEND;VALUE=DATE:20140203
TRANSP:TRANSPARENT
X-MICROSOFT-CDO-ALLDAYEVENT:TRUE
SUMMARY:6Nations Rugby at Mystic Celt
DESCRIPTION:Join us at Mystic Celt to catch all the 6Nations Rugby action live on T.V.!\n\n\n\nFirst game 8:30am Wales vs Italy and then at 11:00am France vs England.\n\n\n\nSee you there!
X-ALT-DESC;FMTTYPE=text/html:Join us at Mystic Celt to catch all the 6Nations Rugby action live on T.V.!<br />\n<br />\nFirst game 8:30am Wales vs Italy and then at 11:00am France vs England.<br />\n<br />\nSee you there! 
LOCATION:Mystic Celt 3443 N. Southport Chicago\, IL 60657
UID:e.1819.186
SEQUENCE:3
DTSTAMP:20260424T154505Z
URL:https://members.lakeviewroscoevillage.org/events/details/6nations-rugby-at-mystic-celt-02-01-2014-186
END:VEVENT

END:VCALENDAR
