BEGIN:VCALENDAR
VERSION:2.0
PRODID:-//ChamberMaster//Event Calendar 2.0//EN
METHOD:PUBLISH
X-PUBLISHED-TTL:P3D
REFRESH-INTERVAL:P3D
CALSCALE:GREGORIAN
BEGIN:VEVENT
DTSTART:20140425T220000Z
DTEND:20140426T003000Z
X-MICROSOFT-CDO-ALLDAYEVENT:FALSE
SUMMARY:A Journey Through Time: Tilt Mansion Centennial
DESCRIPTION:The one hundred year old Tilt Mansion\, owned by The Salvation Army\, will be open for tours and historical reenactments on Friday and Saturday\, April 25 and 26. Tours are $5 and reserve times are necessary.
X-ALT-DESC;FMTTYPE=text/html:The one hundred year old Tilt Mansion\, owned by The Salvation Army\,&nbsp\;will be open for tours and historical reenactments on Friday and Saturday\, April 25 and 26. Tours are $5 and reserve times are necessary.
LOCATION:Tilt Mansion 700 W. Brompton Chicago\, IL\, 60613
UID:e.1819.247
SEQUENCE:3
DTSTAMP:20260424T134833Z
URL:https://members.lakeviewroscoevillage.org/events/details/a-journey-through-time-tilt-mansion-centennial-04-25-2014-247
END:VEVENT

END:VCALENDAR
