BEGIN:VCALENDAR
VERSION:2.0
PRODID:-//ChamberMaster//Event Calendar 2.0//EN
METHOD:PUBLISH
X-PUBLISHED-TTL:P3D
REFRESH-INTERVAL:P3D
CALSCALE:GREGORIAN
BEGIN:VEVENT
DTSTART:20141204T233000Z
DTEND:20141205T020000Z
X-MICROSOFT-CDO-ALLDAYEVENT:FALSE
SUMMARY:A Night with Elf
DESCRIPTION:If "Smiling's your Favorite" join the Lakeview Chamber of Commerce as we kick off the Holiday Season with two showings of Elf at the Music Box Theatre. \n\n\n\nOnly a "Cotton Headed Ninny Muggins" would miss this! \n\n\n\nTo purchase tickets please select a time below.\n\n5:30PM Tickets \n\n\n\n8:00PM Tickets\n\n\n\nONLINE TICKET SALES WILL CLOSE ONE HOUR BEFORE EACH SHOW.  TICKETS WILL BE AVAILABLE TO PURCHASE AT THE DOOR FOR $12
X-ALT-DESC;FMTTYPE=text/html:<span style="color: rgb(0\, 0\, 0)\; font-family: 'Helvetica Neue'\, Helvetica\, Arial\, sans-serif\; font-size: 12.8000001907349px\; line-height: 20.7999992370605px\;">If &quot\;Smiling&#39\;s your Favorite&quot\; join the Lakeview Chamber of Commerce as we kick off the Holiday Season with two showings of Elf at the Music Box Theatre.&nbsp\;<br />\n<br />\nOnly a &quot\;Cotton Headed Ninny Muggins&quot\; would miss this!&nbsp\;</span><br />\n<br />\nTo purchase tickets please&nbsp\;select a time below.<br />\n<span style="line-height: 20.7999992370605px\;"><a href="https://www.eventbrite.com/e/elf-530pm-tickets-14268841489">5:30PM Tickets</a>&nbsp\;</span><br style="line-height: 20.7999992370605px\;" />\n<br style="line-height: 20.7999992370605px\;" />\n<span style="line-height: 20.7999992370605px\;"><a href="https://www.eventbrite.com/e/elf-800pm-tickets-14273222593">8:00PM Tickets</a></span><br />\n<br />\n<span style="margin: 0px\; padding: 0px\; border: none\; border-image-source: none\; border-image-slice: 100% 1 0\; border-image-repeat: stretch\; font-weight: 700\; bottom: auto\; box-sizing: content-box\; clear: none\; content: normal\; direction: inherit\; empty-cells: show\; font-family: Arial\, Helvetica\, Verdana\, sans-serif\; font-size: 14px\; font-stretch: inherit\; left: auto\; line-height: 18.2000007629395px\; max-height: none\; max-width: none\; opacity: 1\; outline: invert none medium\; outline-offset: 0px\; overflow: visible\; position: static\; resize: none\; right: auto\; table-layout: auto\; text-overflow: clip\; top: auto\; vertical-align: baseline\; visibility: inherit\; word-break: inherit\; word-wrap: inherit\; z-index: auto\; border-collapse: separate\; border-radius: 0px\; height: auto\; width: auto\; box-shadow: none\; background: none\;">ONLINE TICKET SALES WILL CLOSE ONE HOUR BEFORE EACH SHOW. &nbsp\;TICKETS WILL BE AVAILABLE TO PURCHASE AT THE DOOR FOR $12</span>
LOCATION:Music Box Theatre 3733 N Southport Ave\, Chicago\, IL 60613
UID:e.1819.721
SEQUENCE:3
DTSTAMP:20260423T185645Z
URL:https://members.lakeviewroscoevillage.org/events/details/a-night-with-elf-12-04-2014-721
END:VEVENT

END:VCALENDAR
