BEGIN:VCALENDAR
VERSION:2.0
PRODID:-//ChamberMaster//Event Calendar 2.0//EN
METHOD:PUBLISH
X-PUBLISHED-TTL:P3D
REFRESH-INTERVAL:P3D
CALSCALE:GREGORIAN
BEGIN:VEVENT
DTSTART:20161208T010000Z
DTEND:20161208T040000Z
X-MICROSOFT-CDO-ALLDAYEVENT:FALSE
SUMMARY:A Taste of Italy at 404 Wine Bar
DESCRIPTION:Join us at 404 Wine Bar as we journey through Italy! Try unique wines from the region paired with refreshing bites that will wow your palate and transport you right to the heart of Italia! \n\nTickets are limited\, so purchase today at https://diag.ticketleap.com/taste-of-italy/
X-ALT-DESC;FMTTYPE=text/html:<p>Join us at 404 Wine Bar as we journey through Italy! Try unique wines from the region paired with refreshing bites that will wow your palate and transport you right to the heart of Italia!&nbsp\;</p>\n\n<p>Tickets are limited\, so purchase today at&nbsp\;https://diag.ticketleap.com/taste-of-italy/<br />\n&nbsp\;</p>\n
LOCATION:404 Wine Bar | 2852 N Southport Ave Chicago IL 60657
UID:e.1819.4853
SEQUENCE:3
DTSTAMP:20260420T065213Z
URL:https://members.lakeviewroscoevillage.org/events/details/a-taste-of-italy-at-404-wine-bar-12-07-2016-4853
END:VEVENT

END:VCALENDAR
