BEGIN:VCALENDAR
VERSION:2.0
PRODID:-//ChamberMaster//Event Calendar 2.0//EN
METHOD:PUBLISH
X-PUBLISHED-TTL:P3D
REFRESH-INTERVAL:P3D
CALSCALE:GREGORIAN
BEGIN:VEVENT
DTSTART:20151219T013000Z
DTEND:20151219T030000Z
X-MICROSOFT-CDO-ALLDAYEVENT:FALSE
SUMMARY:A Very Classical Blast Christmas
DESCRIPTION:Sugarplum Fairy meets Metallica... A Very Unique Holiday Celebration! Holiday carols\, classical and classic rock\, all mashed together and performed as only Classical Blast can\, on classical and rock instruments. Special guest performers and more\, all to benefit Caring Arts\, to provide healing arts programming to local cancer patients.
X-ALT-DESC;FMTTYPE=text/html:Sugarplum Fairy meets Metallica... A Very Unique Holiday Celebration! Holiday carols\, classical and classic rock\, all mashed together and performed as only Classical Blast can\, on classical and rock instruments. Special guest performers and more\, all to benefit Caring Arts\, to provide healing arts programming to local cancer patients.
LOCATION:St. Peter's Episcopal Church 621 W Belmont Ave\, Chicago
UID:e.1819.2261
SEQUENCE:3
DTSTAMP:20260422T203427Z
URL:https://members.lakeviewroscoevillage.org/events/details/a-very-classical-blast-christmas-12-18-2015-2261
END:VEVENT

END:VCALENDAR
