BEGIN:VCALENDAR
VERSION:2.0
PRODID:-//ChamberMaster//Event Calendar 2.0//EN
METHOD:PUBLISH
X-PUBLISHED-TTL:P3D
REFRESH-INTERVAL:P3D
CALSCALE:GREGORIAN
BEGIN:VEVENT
DTSTART:20150401T210000Z
DTEND:20150402T000000Z
X-MICROSOFT-CDO-ALLDAYEVENT:FALSE
SUMMARY:Advocate Illinois Masonic Friends & Neighbors Open House
DESCRIPTION:Advocate Illinois Masonic Medical Center\n\nCenter for Advanced Care\n\nFriends & Neighbors Open House
X-ALT-DESC;FMTTYPE=text/html:Advocate Illinois Masonic Medical Center<br />\nCenter for Advanced Care<br />\nFriends &amp\; Neighbors Open House
LOCATION:Center for Advanced Care 900 W. Nelson St
UID:e.1819.1510
SEQUENCE:3
DTSTAMP:20260423T113634Z
URL:https://members.lakeviewroscoevillage.org/events/details/advocate-illinois-masonic-friends-neighbors-open-house-04-01-2015-1510
END:VEVENT

END:VCALENDAR
