BEGIN:VCALENDAR
VERSION:2.0
PRODID:-//ChamberMaster//Event Calendar 2.0//EN
METHOD:PUBLISH
X-PUBLISHED-TTL:P3D
REFRESH-INTERVAL:P3D
CALSCALE:GREGORIAN
BEGIN:VEVENT
DTSTART:20141203T140000Z
DTEND:20141203T153000Z
X-MICROSOFT-CDO-ALLDAYEVENT:FALSE
SUMMARY:Affordable Care Act (ACA) Roundtable
DESCRIPTION:The Affordable Care Act (ACA) is over four years old\, but can you really say you're 100% familiar with the implementation\, elements and reporting requirements of health care reform? The health care regulatory environment remains as dynamic as ever\, especially for mid-market employers who continue to navigate this environment as they prepare to comply with new coverage\, reporting and tax requirements. \n						\n						\n					\n				\n			\n			\n		\n	\n\n\n\n	\n		\n			 \n		\n		\n			\n			\n				\n					\n						\n						 \n\n						Please join us for this interactive panel\, where you will learn about:\n\n						\n							Requirements and best practices\n							Employee enrollment opportunities for coverage in 2015\n							Key strategies to comply with the Employer Shared Responsibility Mandate for 2015\n							New IRS reporting requirements impacting large employers
X-ALT-DESC;FMTTYPE=text/html:<table border="0" cellpadding="0" cellspacing="0" style="color: rgb(34\, 34\, 34)\; font-size: 12px\; line-height: normal\; font-family: Helvetica\;" width="100%">\n	<tbody>\n		<tr>\n			<td style="font-family: arial\, sans-serif\; margin: 0px\; padding-right: 5px\; padding-bottom: 5px\; padding-left: 5px\; line-height: 1.5\;" valign="top">\n			<table border="0" cellpadding="0" cellspacing="0" style="font-family: Helvetica\;" width="100%">\n				<tbody>\n					<tr>\n						<td style="font-family: arial\, sans-serif\; margin: 0px\; padding: 0px\; background-color: transparent\;" valign="top">\n						<div style="margin-bottom: 10px\; line-height: 1.5\;">\n						<p style="margin-bottom: 10px\; line-height: 1.5\;"><span style="font-family: Verdana\, Geneva\, Tahoma\, Arial\, sans-serif\; font-size: 14px\;">The Affordable Care Act (ACA) is over four years old\, but can you really say you&rsquo\;re 100% familiar with the implementation\, elements and reporting requirements of health care reform? The health care regulatory environment remains as dynamic as ever\, especially for mid-market employers who continue to navigate this environment as they prepare to comply with new coverage\, reporting and tax requirements.&nbsp\;</span></p>\n						</div>\n						</td>\n					</tr>\n				</tbody>\n			</table>\n			</td>\n		</tr>\n	</tbody>\n</table>\n\n<table border="0" cellpadding="0" cellspacing="0" style="color: rgb(34\, 34\, 34)\; font-size: 12px\; line-height: normal\; font-family: Helvetica\;" width="100%">\n	<tbody>\n		<tr>\n			<td style="font-family: arial\, sans-serif\; margin: 0px\; padding-bottom: 5px\;">&nbsp\;</td>\n		</tr>\n		<tr>\n			<td style="font-family: arial\, sans-serif\; margin: 0px\; padding-right: 5px\; padding-bottom: 5px\; padding-left: 5px\; line-height: 1.5\;" valign="top">\n			<table border="0" cellpadding="0" cellspacing="0" style="font-family: Helvetica\;" width="100%">\n				<tbody>\n					<tr>\n						<td style="font-family: arial\, sans-serif\; margin: 0px\; padding: 0px\; background-color: transparent\;" valign="top">\n						<div>&nbsp\;</div>\n\n						<div style="margin-bottom: 10px\; line-height: 1.5\;"><span style="font-family: Verdana\, Geneva\, Tahoma\, Arial\, sans-serif\;"><span style="font-size: 14px\;"><strong>Please join us for this interactive panel\, where you will learn about:</strong></span></span>\n\n						<ul>\n							<li style="margin-left: 15px\;"><span style="font-family: Verdana\, Geneva\, Tahoma\, Arial\, sans-serif\; font-size: 14px\;">Requirements and best practices</span></li>\n							<li style="margin-left: 15px\;"><span style="font-family: Verdana\, Geneva\, Tahoma\, Arial\, sans-serif\; font-size: 14px\;">Employee enrollment opportunities for coverage in 2015</span></li>\n							<li style="margin-left: 15px\;"><span style="font-family: Verdana\, Geneva\, Tahoma\, Arial\, sans-serif\; font-size: 14px\;">Key strategies to comply with the Employer Shared Responsibility Mandate for 2015</span></li>\n							<li style="margin-left: 15px\;"><span style="font-family: Verdana\, Geneva\, Tahoma\, Arial\, sans-serif\;"><span style="font-size: 14px\;">New IRS reporting requirements impacting large employers</span></span></li>\n						</ul>\n						</div>\n						</td>\n					</tr>\n				</tbody>\n			</table>\n			</td>\n		</tr>\n	</tbody>\n</table>\n
LOCATION:Argosy 225 N Michigan Ave\, 13th Floor
UID:e.1819.1322
SEQUENCE:3
DTSTAMP:20260423T185912Z
URL:https://members.lakeviewroscoevillage.org/events/details/affordable-care-act-aca-roundtable-12-03-2014-1322
END:VEVENT

END:VCALENDAR
