BEGIN:VCALENDAR
VERSION:2.0
PRODID:-//ChamberMaster//Event Calendar 2.0//EN
METHOD:PUBLISH
X-PUBLISHED-TTL:P3D
REFRESH-INTERVAL:P3D
CALSCALE:GREGORIAN
BEGIN:VEVENT
DTSTART:20150501T223000Z
DTEND:20150502T013000Z
X-MICROSOFT-CDO-ALLDAYEVENT:FALSE
SUMMARY:AIA Chicago Small Projects Awards
DESCRIPTION:AIA Chicago hosts the 5th annual Small Projects Awards Party\, honoring the best small-scale architectural projects across Chicagoland. This lively\, FREE event aims to raise public awareness of the value that architects bring to small projects and to promote small practitioners as a resource for design excellence. Are you an architect\, landscape architect\, interior designer or engineer wanting to connect with other top designers and architects? A homeowner looking to remodel? A business owner hoping to expand? AIA Chicago hosts the biggest little party of the year on May 1\, bringing together anyone wanting to see the best darn residential\, commercial and institutional projects of the past year. Make new connections in the design community and enjoy a casual yet energizing evening at Architectural Artifacts.
X-ALT-DESC;FMTTYPE=text/html:AIA Chicago hosts the 5th annual Small Projects Awards Party\, honoring the best small-scale architectural projects across Chicagoland. This lively\, FREE event aims to raise public awareness of the value that architects bring to small projects and to promote small practitioners as a resource for design excellence. Are you an architect\, landscape architect\, interior designer or engineer wanting to connect with other top designers and architects? A homeowner looking to remodel? A business owner hoping to expand? AIA Chicago hosts the biggest little party of the year on May 1\, bringing together anyone wanting to see the best darn residential\, commercial and institutional projects of the past year. Make new connections in the design community and enjoy a casual yet energizing evening at Architectural Artifacts.
LOCATION:Architectural Artifacts\, 4325 N. Ravenswood Ave\, Chicago IL
UID:e.1819.1548
SEQUENCE:3
DTSTAMP:20260423T094628Z
URL:https://members.lakeviewroscoevillage.org/events/details/aia-chicago-small-projects-awards-05-01-2015-1548
END:VEVENT

END:VCALENDAR
