BEGIN:VCALENDAR
VERSION:2.0
PRODID:-//ChamberMaster//Event Calendar 2.0//EN
METHOD:PUBLISH
X-PUBLISHED-TTL:P3D
REFRESH-INTERVAL:P3D
CALSCALE:GREGORIAN
BEGIN:VEVENT
DTSTART:20151107T000000Z
DTEND:20151107T030000Z
X-MICROSOFT-CDO-ALLDAYEVENT:FALSE
SUMMARY:Airtrak Madness Parent Survival Night
DESCRIPTION:Parents call it a break from the kids. Kids call it a break from their parents. That sounds like a win-win situation. Parents can enjoy a night off with The Little Gym of Chicago?s Parent Survival Night. Your little ones will enjoy an evening filled with music\, themed games and fun activities! Not only will the kids get moving on the gymnastics equipment\, they?re also treated to pizza and part of a movie to wind down the night. The Little Gym instructors will create a fun and safe environment for everyone to enjoy! This week?s theme is called Airtrak Madness! Get ready for some Serious Jumping Fun!
X-ALT-DESC;FMTTYPE=text/html:Parents call it a break from the kids. Kids call it a break from their parents. That sounds like a win-win situation. Parents can enjoy a night off with The Little Gym of Chicago?s Parent Survival Night. Your little ones will enjoy an evening filled with music\, themed games and fun activities! Not only will the kids get moving on the gymnastics equipment\, they?re also treated to pizza and part of a movie to wind down the night. The Little Gym instructors will create a fun and safe environment for everyone to enjoy! This week?s theme is called Airtrak Madness! Get ready for some Serious Jumping Fun!
LOCATION:The Little Gym of Chicago
UID:e.1819.2025
SEQUENCE:3
DTSTAMP:20260422T223522Z
URL:https://members.lakeviewroscoevillage.org/events/details/airtrak-madness-parent-survival-night-11-06-2015-2025
END:VEVENT

END:VCALENDAR
