BEGIN:VCALENDAR
VERSION:2.0
PRODID:-//ChamberMaster//Event Calendar 2.0//EN
METHOD:PUBLISH
X-PUBLISHED-TTL:P3D
REFRESH-INTERVAL:P3D
CALSCALE:GREGORIAN
BEGIN:VEVENT
DTSTART:20160716T000000Z
DTEND:20160716T040000Z
X-MICROSOFT-CDO-ALLDAYEVENT:FALSE
SUMMARY:American Bocce Co Presents: Bocce Ball at Beef & Barley
DESCRIPTION:We have teamed up with American Bocce Co and New Belgium Brewing\, to once again bring you Bocce Ball at Beef & Barley.  \n\nThe tournament will ideally consist of 8-10 teams.  Bracket style and number of guaranteed games will be based on total number of teams that sign up.  This information will be available closer to event date.\n\nEach team will be made up of 4 players.  You may register a full 4 player team for $40*\, or may sign up individually for $10*.  Individual players will be randomly assigned to make teams of 4.  *eventbrite fees not included in base ticket cost\n\nPrizes will be awarded to the top 2 finishing teams courtesy of New Belgium Brewing.\n\nBOCCE SPECIALS\n\n$4 New Belgium Cans\n\n$15 New Belgium Mix and Match Can Buckets\n\nFRIDAY SPECIALS\n\n$4 Lagunitas Drafts\n\n1/2 price bottles of wine\n\nFriday specials subject to change\n\n \n\nFor a complete list of rules\, or any other questions or concerns\, please email BeefandBarleyChi@gmail.com with BOCCE TOURNAMENT in the subject line.\n\nDON'T FORGET THE GOLDEN RULE:\n\nAny throw made without a drink in hand will be forfeited!\n\nCancellation and Refund Policy\n\nIn the event that Bocce Ball is cancelled or postponed\, due to weather or factors outside our control\, a full refund will be provided upon request\, or entry fee may be credited towards a future date.\n\n\n\nNo refunds will be issued if ticketholder cannot attend event unless requested 48hrs prior to event date.\n\nTickets may be purchased using the form below\, or follow the eventbrite link to be taken directly to the event page.
X-ALT-DESC;FMTTYPE=text/html:<p>We have teamed up with <a href="https://americanbocceco.com/" target="_blank">American Bocce Co</a>&nbsp\;and <a href="http://www.newbelgium.com/" target="_blank">New Belgium Brewing</a>\,&nbsp\;to once again bring you Bocce Ball at Beef &amp\; Barley. &nbsp\;</p>\n\n<p>The tournament will ideally consist of 8-10 teams. &nbsp\;Bracket style and number of guaranteed games will be based on total number of teams that sign up. &nbsp\;This information will be available closer to event date.</p>\n\n<p>Each team will be made up of 4 players. &nbsp\;You may register a full 4 player team for $40*\, or may sign up individually for $10*. &nbsp\;Individual players will be randomly assigned to make teams of 4. &nbsp\;*<em>eventbrite fees not included in base ticket cost</em></p>\n\n<p>Prizes will be awarded to the top 2 finishing teams courtesy of New Belgium Brewing.</p>\n\n<p><em>BOCCE SPECIALS</em><br />\n<em>$4 New Belgium Cans</em><br />\n<em>$15 New Belgium Mix and Match Can Buckets</em></p>\n\n<p><em>FRIDAY SPECIALS</em><br />\n<em>$4 Lagunitas Drafts</em><br />\n<em>1/2 price bottles of wine</em><br />\n<em>Friday specials subject to change</em></p>\n\n<p>&nbsp\;</p>\n\n<p>For a complete list of rules\, or any other questions or concerns\, please email BeefandBarleyChi@gmail.com with BOCCE TOURNAMENT in the subject line.</p>\n\n<p>DON&#39\;T FORGET THE GOLDEN RULE:<br />\nAny throw made without a drink in hand will be forfeited!</p>\n\n<p><em>Cancellation and Refund Policy</em></p>\n\n<p><em>In the event that Bocce Ball is cancelled or postponed\, due to weather or factors outside our control\, a full refund will be provided upon request\, or entry fee may be credited towards a future date.</em></p>\n\n<p><br />\n<em>No refunds will be issued if ticketholder cannot attend event unless requested 48hrs prior to event date.</em></p>\n\n<p>Tickets may be purchased using the form below\, or follow the eventbrite link to be taken directly to the event page.&nbsp\;</p>\n
LOCATION:Beef & Barley is a neighborhood gastropub located in the heart of Lakeview that serves up craft beers\, cocktails and shared plates with a Chicago twist. The team prides themselves on offering guests a relaxed dining experience with an ever-changing curated list of Midwest\, hard-to-find brews and imaginative craft cocktails. Chef Cecil Rodriguez's seasonal menus are inspired by his love of Chicago and all of its eclectic neighborhoods and cuisines. With a highly affordable menu and specials each night of the week\, Beef & Barley offers something for everyone. Guests will never be bored with an array of entertainment options from trivia nights\, skee ball\, board games and an old school photo booth.
UID:e.1819.3304
SEQUENCE:3
DTSTAMP:20260422T081725Z
URL:https://members.lakeviewroscoevillage.org/events/details/american-bocce-co-presents-bocce-ball-at-beef-barley-07-15-2016-3304
END:VEVENT

END:VCALENDAR
