BEGIN:VCALENDAR
VERSION:2.0
PRODID:-//ChamberMaster//Event Calendar 2.0//EN
METHOD:PUBLISH
X-PUBLISHED-TTL:P3D
REFRESH-INTERVAL:P3D
CALSCALE:GREGORIAN
BEGIN:VEVENT
DTSTART;VALUE=DATE:20140722
DTEND;VALUE=DATE:20140723
TRANSP:TRANSPARENT
X-MICROSOFT-CDO-ALLDAYEVENT:TRUE
SUMMARY:An Extra Helping for the Homeless Event
DESCRIPTION:Please join Cornerstone Community Outreach's event "An Extra Helping For The Homeless". It is a dine-out charity event where restaurants will give 5 to 25% of their total receipts on Tuesday July 22\, 2014 to help raise money for families who are homeless. \n\n\n\nWe are excited to partner with the Illinois Restaurant Association and various Chambers of Commerce in the city. \n\n\n\nIf you are interested in participating please contact Charlene Stephens at 773.506.6396 ext.10 or email at c.stephens@ccolife.org \n\n\n\nVisit our Website and Facebook to learn about the exciting work we do at CCO:\n\n\n\nParticipating Restaurants List: http://www.ccolife.org/get-involved/cco-dine-out-event/ (more added daily) \n\n\n\nPlease visit this page often as we will be updating the page with participating restaurants.
X-ALT-DESC;FMTTYPE=text/html:<span style="color: rgb(20\, 24\, 35)\; font-family: 'lucida grande'\, tahoma\, verdana\, arial\, sans-serif\; line-height: 16.639999389648438px\;">Please join Cornerstone Community Outreach&rsquo\;s event &ldquo\;An Extra Helping For The Homeless&rdquo\;. It is a dine-out charity event where restaurants will give 5 to 25% of their total receipts on Tuesday July 22\, 2014 to help raise money for families who are homeless.&nbsp\;</span><br style="color: rgb(20\, 24\, 35)\; font-family: 'lucida grande'\, tahoma\, verdana\, arial\, sans-serif\; line-height: 16.639999389648438px\;" />\n<br style="color: rgb(20\, 24\, 35)\; font-family: 'lucida grande'\, tahoma\, verdana\, arial\, sans-serif\; line-height: 16.639999389648438px\;" />\n<span style="color: rgb(20\, 24\, 35)\; font-family: 'lucida grande'\, tahoma\, verdana\, arial\, sans-serif\; line-height: 16.639999389648438px\;">We are excited to partner with the Illinois Restaurant Associ</span><span class="text_exposed_show" style="display: inline\; color: rgb(20\, 24\, 35)\; font-family: 'lucida grande'\, tahoma\, verdana\, arial\, sans-serif\; line-height: 16.639999389648438px\;">ation and various Chambers of Commerce in the city.&nbsp\;<br />\n<br />\nIf you are interested in participating please contact Charlene Stephens at 773.506.6396 ext.10 or email at c.stephens@ccolife.org&nbsp\;<br />\n<br />\nVisit our Website and Facebook to learn about the exciting work we do at CCO:</span><br />\n<br />\nParticipating Restaurants List: http://www.ccolife.org/get-involved/cco-dine-out-event/ (more added daily)&nbsp\;<br />\n<br />\n<span class="text_exposed_show" style="display: inline\; color: rgb(20\, 24\, 35)\; font-family: 'lucida grande'\, tahoma\, verdana\, arial\, sans-serif\; line-height: 16.639999389648438px\;">Please visit this page often as we will be updating the page with participating restaurants.</span>
LOCATION:Various Restaurants- list to be posted soon
UID:e.1819.321
SEQUENCE:3
DTSTAMP:20260424T051700Z
URL:https://members.lakeviewroscoevillage.org/events/details/an-extra-helping-for-the-homeless-event-07-22-2014-321
END:VEVENT

END:VCALENDAR
