BEGIN:VCALENDAR
VERSION:2.0
PRODID:-//ChamberMaster//Event Calendar 2.0//EN
METHOD:PUBLISH
X-PUBLISHED-TTL:P3D
REFRESH-INTERVAL:P3D
CALSCALE:GREGORIAN
BEGIN:VEVENT
DTSTART:20170615T200000Z
DTEND:20170616T000000Z
X-MICROSOFT-CDO-ALLDAYEVENT:FALSE
SUMMARY:Anne et Valentin Eyewear Trunk Show
DESCRIPTION:Anne et Valentin debuted a GORGEOUS collection at the tradeshow in NYC this year and this is your chance to see it all! Beautiful new shapes and colors and you can try on every one on Thursday\, June 15th from 3 - 7pm.\n\n\n\nClick here for more information.
X-ALT-DESC;FMTTYPE=text/html:<a href="https://www.facebook.com/Anne.et.Valentin/" style="color: rgb(54\, 88\, 153)\; cursor: pointer\; text-decoration: none\; font-family: Helvetica\, Arial\, sans-serif\; font-size: 14px\; font-style: normal\; font-variant-ligatures: normal\; font-variant-caps: normal\; font-weight: normal\; letter-spacing: normal\; orphans: 2\; text-align: start\; text-indent: 0px\; text-transform: none\; white-space: normal\; widows: 2\; word-spacing: 0px\; -webkit-text-stroke-width: 0px\; background-color: rgb(255\, 255\, 255)\;">Anne et Valentin</a><span style="background-color:rgb(255\, 255\, 255)\; color:rgb(75\, 79\, 86)\; font-family:helvetica\,arial\,sans-serif\; font-size:14px"> debuted a GORGEOUS collection at the tradeshow in NYC this year and this is your chance to see it all! Beautiful new shapes and colors and you can try on every one on Thursday\, June 15th from 3 - 7pm.<br />\n<br />\n<a href="https://www.facebook.com/events/1734242253258142/">Click here for more information</a>. </span>
LOCATION:Eye Spy Optical 3350 N Lincoln Ave Chicago\, IL 60657
UID:e.1819.5163
SEQUENCE:3
DTSTAMP:20260419T200706Z
URL:https://members.lakeviewroscoevillage.org/events/details/anne-et-valentin-eyewear-trunk-show-06-15-2017-5163
END:VEVENT

END:VCALENDAR
