BEGIN:VCALENDAR
VERSION:2.0
PRODID:-//ChamberMaster//Event Calendar 2.0//EN
METHOD:PUBLISH
X-PUBLISHED-TTL:P3D
REFRESH-INTERVAL:P3D
CALSCALE:GREGORIAN
BEGIN:VEVENT
DTSTART:20171118T170000Z
DTEND:20171118T230000Z
X-MICROSOFT-CDO-ALLDAYEVENT:FALSE
SUMMARY:Anne et Valentin Trunk Show at Eye Spy Optical!
DESCRIPTION:Eye Spy Optical's third week of November Trunk Shows brings a fan favorite...Anne et Valentin! \n\n\n\nIt is always a good day when Anne et Valentin comes to visit...especially when there are new frames and new colors to try on! Known for unique shapes and flattering colors\, Anne et Valentin is sure to be your new favorite.\n\n\n\nJoin us on Saturday\, November 18th and try on the entire 2018 collection in all of the new hues!\n\n\n\nCan't make it in on Saturday? Schedule a private appointment on Sunday\, Nov. 18 via email or phone 773-477-2670.
X-ALT-DESC;FMTTYPE=text/html:<div>\n<div><span style="font-size:14px"><span style="font-family:inherit">Eye Spy Optical&#39\;s third week of November Trunk Shows brings a fan favorite...Anne et Valentin! </span></span></div>\n</div>\n\n<div>\n<div><span style="font-size:14px"><span style="font-family:inherit">It is always a good day when Anne et Valentin comes to visit...especially when there are new frames and new colors to try on!&nbsp\;</span><span style="font-family:inherit">Known for unique shapes and flattering colors\, Anne et Valentin is sure to be your new favorite.</span></span></div>\n</div>\n\n<div>\n<div><span style="font-size:14px"><span style="font-family:inherit">Join us on Saturday\, November 18th and try on the entire 2018 collection in all of the new hues!</span></span></div>\n</div>\n<br />\n<span style="color:rgb(75\, 79\, 86)\; font-family:helvetica\,arial\,sans-serif\; font-size:14px">Can&#39\;t make it in on Saturday? Schedule a private appointment on Sunday\, Nov. 18 via email or phone 773-477-2670.&nbsp\;</span>&nbsp\;&nbsp\;&nbsp\;&nbsp\;
LOCATION:Eye Spy Optical 3350 N Lincoln Ave Chicago\, IL 60657
UID:e.1819.11198
SEQUENCE:3
DTSTAMP:20260419T142958Z
URL:https://members.lakeviewroscoevillage.org/events/details/anne-et-valentin-trunk-show-at-eye-spy-optical-11-18-2017-11198
END:VEVENT

END:VCALENDAR
