BEGIN:VCALENDAR
VERSION:2.0
PRODID:-//ChamberMaster//Event Calendar 2.0//EN
METHOD:PUBLISH
X-PUBLISHED-TTL:P3D
REFRESH-INTERVAL:P3D
CALSCALE:GREGORIAN
BEGIN:VEVENT
DTSTART:20171129T143000Z
DTEND:20171129T160000Z
X-MICROSOFT-CDO-ALLDAYEVENT:FALSE
SUMMARY:Annual Commercial Broker Breakfast
DESCRIPTION:Join the Lakeview and Greater Ravenswood Chambers of Commerce\, and the Chicago Association of Realtors' Commercial Forum for a unique informational and networking breakfast for commercial brokers\, owners and landlords.\n\n\n\nThe Lakeview and Ravenswood neighborhoods have seen significant growth and development\, attracting young professionals and families alike. Get to know others working in these vibrant communities and hear from local experts on vacancies\, what to expect in development\, pending legislation impacting real estate\, and how your Chambers can be your partner in attracting tenants.\n\n\n\nTo register visit :https://www.eventbrite.com/e/2017-chamber-of-commerce-annual-commercial-broker-breakfast-tickets-39489585413
X-ALT-DESC;FMTTYPE=text/html:<span style="color: rgb(32\, 32\, 32)\; font-family: Helvetica\; font-size: 16px\;">Join the Lakeview and Greater Ravenswood Chambers of Commerce\, and the Chicago Association of Realtors&#39\; Commercial Forum for a unique informational and networking breakfast for commercial brokers\, owners and landlords.</span><br style="color: rgb(32\, 32\, 32)\; font-family: Helvetica\; font-size: 16px\;" />\n<br style="color: rgb(32\, 32\, 32)\; font-family: Helvetica\; font-size: 16px\;" />\n<span style="color: rgb(32\, 32\, 32)\; font-family: Helvetica\; font-size: 16px\;">The Lakeview and Ravenswood neighborhoods have seen significant growth and development\, attracting young professionals and families alike. Get to know others working in these vibrant communities and hear from local experts on vacancies\, what to expect in development\, pending legislation impacting real estate\, and how your Chambers can be your partner in attracting tenants.<br />\n<br />\nTo register visit :</span><a data-saferedirecturl="https://www.google.com/url?hl=en&amp\;q=https://www.eventbrite.com/e/2017-chamber-of-commerce-annual-commercial-broker-breakfast-tickets-39489585413&amp\;source=gmail&amp\;ust=1511299978441000&amp\;usg=AFQjCNFpMOe4UaOCtc0nukusbZppOILefQ" href="https://www.eventbrite.com/e/2017-chamber-of-commerce-annual-commercial-broker-breakfast-tickets-39489585413" style="color: rgb(17\, 85\, 204)\; font-family: Calibri\, sans-serif\; font-size: 14.6667px\;" target="_blank">https://www.eventbrite.com/e/<wbr />2017-chamber-of-commerce-<wbr />annual-commercial-broker-<wbr />breakfast-tickets-39489585413</a>
LOCATION:Marmalade 1969 W. Montrose
UID:e.1819.11215
SEQUENCE:3
DTSTAMP:20260419T142629Z
URL:https://members.lakeviewroscoevillage.org/events/details/annual-commercial-broker-breakfast-11-29-2017-11215
END:VEVENT

END:VCALENDAR
