BEGIN:VCALENDAR
VERSION:2.0
PRODID:-//ChamberMaster//Event Calendar 2.0//EN
METHOD:PUBLISH
X-PUBLISHED-TTL:P3D
REFRESH-INTERVAL:P3D
CALSCALE:GREGORIAN
BEGIN:VEVENT
DTSTART:20161014T000000Z
DTEND:20161014T030000Z
X-MICROSOFT-CDO-ALLDAYEVENT:FALSE
SUMMARY:Annual Hamlin Park Boxing Show
DESCRIPTION:Providing guidance to our neighborhood's youth
X-ALT-DESC;FMTTYPE=text/html:Providing guidance to our neighborhood&#39\;s youth
LOCATION:Hamlin Park 3035 N. Hoyne
UID:e.1819.3821
SEQUENCE:3
DTSTAMP:20260422T084914Z
URL:https://members.lakeviewroscoevillage.org/events/details/annual-hamlin-park-boxing-show-10-13-2016-3821
END:VEVENT

END:VCALENDAR
