BEGIN:VCALENDAR
VERSION:2.0
PRODID:-//ChamberMaster//Event Calendar 2.0//EN
METHOD:PUBLISH
X-PUBLISHED-TTL:P3D
REFRESH-INTERVAL:P3D
CALSCALE:GREGORIAN
BEGIN:VEVENT
DTSTART:20140412T160000Z
DTEND:20140412T190000Z
X-MICROSOFT-CDO-ALLDAYEVENT:FALSE
SUMMARY:Annual Hop Around the Shops
DESCRIPTION:The shops along Southport Avenue are teaming up once again with local dog rescues to help homeless dogs find loving homes while encouraging the public to walk along the street to discover and enjoy our neighborhood.\n\n\n\nShoppers\, dog lovers\, and families alike will stroll the neighborhood receiving discounts\, coupons\, free samples and/or complimentary candy hiding in plastic eggs at each participating business and at multiple street locations.\n\n \n\nParticipating shops on Southport Avenue from Roscoe to Grace.
X-ALT-DESC;FMTTYPE=text/html:<span style="color:black\;"><span style="font-family:verdana\,sans-serif\;"><span style="font-size:10.0pt\;">The shops along Southport Avenue are teaming up once again with local dog rescues to help homeless dogs find loving homes while encouraging the public to walk along the street to discover and enjoy our neighborhood.<br />\n<br />\nShoppers\, dog lovers\, and families alike will stroll the neighborhood receiving discounts\, coupons\, free samples and/or complimentary candy hiding in plastic eggs at each participating business and at multiple street locations.<br />\n&nbsp\;<br />\n<strong>Participating shops on Southport Avenue from Roscoe to Grace.</strong></span></span></span><br />\n&nbsp\;
LOCATION:Southport Avenue
UID:e.1819.233
SEQUENCE:3
DTSTAMP:20260424T121038Z
URL:https://members.lakeviewroscoevillage.org/events/details/annual-hop-around-the-shops-04-12-2014-233
END:VEVENT

END:VCALENDAR
