BEGIN:VCALENDAR
VERSION:2.0
PRODID:-//ChamberMaster//Event Calendar 2.0//EN
METHOD:PUBLISH
X-PUBLISHED-TTL:P3D
REFRESH-INTERVAL:P3D
CALSCALE:GREGORIAN
BEGIN:VEVENT
DTSTART;VALUE=DATE:20170101
DTEND;VALUE=DATE:20170201
TRANSP:TRANSPARENT
X-MICROSOFT-CDO-ALLDAYEVENT:TRUE
SUMMARY:Annual January Sale at Eye Spy Optical!
DESCRIPTION:Hallelujah!! It's time for Eye Spy's month-long JANUARY SALE with prices starting so low you won't believe your eyes!\n\nWhat better way to indulge in the joy of specs than with a sale?! For the entire month of January\, tons of our inventory will be on sale....but the sooner you get to Eye Spy\, the better selection you will have! Our staff will expertly guide you in finding the perfect frame...just one of the reasons we were named the "Best Eyewear Shop" by the Chicago Reader and NewCity 4 times.\nOur custom\, colorful\, handmade eyewear will be discounted from 25% to 75% off\, with prices as low as $99! \n\nSwing by to check out deals on Theo\, Francis Klein\, Rapp and Mykita. Best of all\, we will have over a 50 pairs of Anne et Valentin that will be 25% off ! Treat yourself to a new look for the New Year!
X-ALT-DESC;FMTTYPE=text/html:<p><span style="background-color:transparent\; color:#000000\; font-family:arial\; font-size:12px"><strong>Hallelujah!!</strong> It&#39\;s time for Eye Spy&#39\;s month-long <strong>JANUARY SALE</strong> with prices starting so low you won&#39\;t believe your eyes!</span></p>\n\n<p><span style="background-color:transparent\; color:#000000\; font-family:arial\; font-size:12px">What better way to indulge in the joy of specs than with a sale?! For the entire month of January\, tons of our inventory will be on sale....but the sooner you get to Eye Spy\, the better selection you will have! Our staff will expertly guide you in finding the perfect frame...just one of the reasons we were named the &quot\;Best Eyewear Shop&quot\; by the </span><em>Chicago Reader</em><span style="background-color:transparent\; color:#000000\; font-family:arial\; font-size:12px"> and </span><em>NewCity 4 times</em><span style="background-color:transparent\; color:#000000\; font-family:arial\; font-size:12px">.</span></p>\n<span style="background-color:transparent\; color:#000000\; font-family:arial\; font-size:12px">Our custom\, colorful\, handmade eyewear will be discounted from </span><strong>25% to 75%</strong> off\, with prices as low as <strong>$99</strong><span style="background-color:transparent\; color:#000000\; font-family:arial\; font-size:12px">! </span><br />\n<span style="background-color:transparent\; color:#000000\; font-family:arial\; font-size:12px">Swing by to check out deals on Theo\, Francis Klein\, Rapp and Mykita. Best of all\, we will have over a 50 pairs of Anne et Valentin that will be </span><strong>25%</strong> off<span style="background-color:transparent\; color:#000000\; font-family:arial\; font-size:12px"> ! Treat yourself to a new look for the New Year!</span>
LOCATION:Eye Spy Optical 3350 N Lincoln Ave Chicago IL 60657
UID:e.1819.4918
SEQUENCE:3
DTSTAMP:20260420T030812Z
URL:https://members.lakeviewroscoevillage.org/events/details/annual-january-sale-at-eye-spy-optical-01-01-2017-4918
END:VEVENT

END:VCALENDAR
