BEGIN:VCALENDAR
VERSION:2.0
PRODID:-//ChamberMaster//Event Calendar 2.0//EN
METHOD:PUBLISH
X-PUBLISHED-TTL:P3D
REFRESH-INTERVAL:P3D
CALSCALE:GREGORIAN
BEGIN:VEVENT
DTSTART:20150209T233000Z
DTEND:20150210T020000Z
X-MICROSOFT-CDO-ALLDAYEVENT:FALSE
SUMMARY:Annual Meeting & Recognition Dinner
DESCRIPTION:Please join us for our Annual Meeting & Recognition Dinner to celebrate the 2014 accomplishments of the Lakeview Chamber of Commerce and it's members.\n\nDuring our event we will present special awards for Entrepreneurial Spirit and Above & Beyond\; as well as thanking Board Members for their commitment and dedication to helping the Lakeview community.\n\nSouthport & Irving (SIP) will be serving a delicious meal while you enjoy the program.\n\nWe would like to thank our generous sponsor Central Federal Savings\n\n\n\nThis event is open to members and non-members. Advanced registration required\; please click here to RSVP.
X-ALT-DESC;FMTTYPE=text/html:<p data-mce-style="color: #333333\; font-family: sans-serif\, Arial\, Verdana\, 'Trebuchet MS'\; line-height: 20.7999992370605px\;" style="line-height: 20.7999992370605px\;"><strong>Please join us for our Annual Meeting &amp\; Recognition Dinner to celebrate the 2014 accomplishments of the Lakeview Chamber of Commerce and it&#39\;s members.</strong></p>\n\n<p data-mce-style="color: #333333\; font-family: sans-serif\, Arial\, Verdana\, 'Trebuchet MS'\; line-height: 20.7999992370605px\;" style="line-height: 20.7999992370605px\;">During our event we will&nbsp\;present special awards&nbsp\;for Entrepreneurial Spirit and Above &amp\; Beyond\; as well as thanking Board Members for their commitment and dedication to helping the Lakeview community.</p>\n\n<p data-mce-style="color: #333333\; font-family: sans-serif\, Arial\, Verdana\, 'Trebuchet MS'\; line-height: 20.7999992370605px\;" style="line-height: 20.7999992370605px\;">Southport &amp\; Irving (SIP) will be serving a delicious meal while you enjoy the program.</p>\n\n<p data-mce-style="color: #333333\; font-family: sans-serif\, Arial\, Verdana\, 'Trebuchet MS'\; line-height: 20.7999992370605px\;" style="line-height: 20.7999992370605px\;">We would like to thank our generous sponsor Central Federal Savings<br />\n<br data-mce-style="color: #333333\; font-family: sans-serif\, Arial\, Verdana\, 'Trebuchet MS'\; font-size: 13px\; line-height: 20.7999992370605px\;" style="color: rgb(51\, 51\, 51)\; font-family: sans-serif\, Arial\, Verdana\, 'Trebuchet MS'\; line-height: 20.7999992370605px\;" />\n<span data-mce-style="color: #333333\; font-family: sans-serif\, Arial\, Verdana\, 'Trebuchet MS'\; font-size: 13px\; line-height: 20.7999992370605px\;" style="color: rgb(51\, 51\, 51)\; font-family: sans-serif\, Arial\, Verdana\, 'Trebuchet MS'\; line-height: 20.7999992370605px\;">This event is open to members and non-members.&nbsp\;Advanced registration required\; please&nbsp\;</span><a href="https://www.eventbrite.com/e/annual-meeting-recognition-dinner-tickets-15203316529">click here to RSVP</a><span data-mce-style="color: #333333\; font-family: sans-serif\, Arial\, Verdana\, 'Trebuchet MS'\; font-size: 13px\; line-height: 20.7999992370605px\;" style="color: rgb(51\, 51\, 51)\; font-family: sans-serif\, Arial\, Verdana\, 'Trebuchet MS'\; line-height: 20.7999992370605px\;">.</span></p>\n
LOCATION:Southport & Irving (SIP) 4000 N Southport Ave Chicago\, IL 60613
UID:e.1819.1489
SEQUENCE:3
DTSTAMP:20260423T170929Z
URL:https://members.lakeviewroscoevillage.org/events/details/annual-meeting-recognition-dinner-02-09-2015-1489
END:VEVENT

END:VCALENDAR
