BEGIN:VCALENDAR
VERSION:2.0
PRODID:-//ChamberMaster//Event Calendar 2.0//EN
METHOD:PUBLISH
X-PUBLISHED-TTL:P3D
REFRESH-INTERVAL:P3D
CALSCALE:GREGORIAN
BEGIN:VEVENT
DTSTART:20140212T000000Z
DTEND:20140212T020000Z
X-MICROSOFT-CDO-ALLDAYEVENT:FALSE
SUMMARY:Annual Meeting & Recognition Dinner
DESCRIPTION:Please join us for our Annual Meeting & Recognition Dinner to celebrate the 2013 accomplishments of the Lakeview Chamber of Commerce and it's members.\n\n	Our exciting keynote speaker is Peter Skosey\, Executive VP at Metropolitan Planning Council.\n\n	During our event we will present special awards for Entrepreneurial Spirit and Above & Beyond\; as well as thanking Board Members for their commitment and dedication to helping the Lakeview community.\n\n	Wishbone Restaurant will be serving a delicious southern meal while you enjoy the program.\n\n	We would like to thank our gracious sponsor Central Savings\n\n\nThis event is open to members and non-members. Advanced registration required\; please click here to RSVP.
X-ALT-DESC;FMTTYPE=text/html:<p>\n	<strong>Please join us for our Annual Meeting &amp\; Recognition Dinner to celebrate the 2013 accomplishments of the Lakeview Chamber of Commerce and it&#39\;s members.</strong></p>\n<p>\n	Our exciting keynote speaker is Peter Skosey\, Executive VP at <a href="http://www.metroplanning.org">Metropolitan Planning Council.</a></p>\n<p>\n	During our event we will&nbsp\;present special awards&nbsp\;for Entrepreneurial Spirit and Above &amp\; Beyond\; as well as thanking Board Members for their commitment and dedication to helping the Lakeview community.</p>\n<p>\n	Wishbone Restaurant will be serving a delicious southern meal while you enjoy the program.</p>\n<p>\n	We would like to thank our gracious sponsor Central Savings</p>\n<br />\nThis event is open to members and non-members.&nbsp\;Advanced registration required\; please <a href="http://www.eventbrite.com/e/lakeview-chambers-annual-meeting-recognition-dinner-tickets-10102445687">click here to RSVP</a>. 
LOCATION:Wishbone 3300 N. Lincoln Ave Chicago\, IL 60657
UID:e.1819.167
SEQUENCE:3
DTSTAMP:20260424T153222Z
URL:https://members.lakeviewroscoevillage.org/events/details/annual-meeting-recognition-dinner-02-11-2014-167
END:VEVENT

END:VCALENDAR
