BEGIN:VCALENDAR
VERSION:2.0
PRODID:-//ChamberMaster//Event Calendar 2.0//EN
METHOD:PUBLISH
X-PUBLISHED-TTL:P3D
REFRESH-INTERVAL:P3D
CALSCALE:GREGORIAN
BEGIN:VEVENT
DTSTART;VALUE=DATE:20140719
DTEND;VALUE=DATE:20140721
TRANSP:TRANSPARENT
X-MICROSOFT-CDO-ALLDAYEVENT:TRUE
SUMMARY:Annual Sidewalk Sale on Southport
DESCRIPTION:Our Annual Sidewalk Sale on Southport will offer amazing deals from your favorite Southport shops! Make a day of it and walk up and down the street scoring great deals and dining at your favorite outdoor restaurant.\n\n\n\nParticipating shops:\n\nAligned Modern Health  \n\nA Little Bit of This \n\nAthleta \n\nBabydolls Boutique \n\nBazar\n\nbethie b.\n\nCaf  Tola \n\nClick Shoes \n\nDAVIDsTEA \n\nDog-a-holics  \n\nEuropean Wax Center\n\nFrancesca's Collections\n\nGap\n\nHot Mama \n\nKrista K\n\nM2 Boutique \n\nMint Julep \n\n Second Time Around  \n\nSnippet's Mini-Cuts\n\nShe One \n\nSplendid\n\nStella Blue Design\n\nTeavana\n\nThat's Amore\n\nUncle Dan's
X-ALT-DESC;FMTTYPE=text/html:Our Annual Sidewalk Sale on Southport will offer amazing deals from your favorite&nbsp\;Southport shops! Make a day of it and walk up and down the street scoring great deals and dining at your favorite outdoor restaurant.<br />\n<br />\n<strong><span style="font-size:14px\;"><u>Participating shops:</u></span></strong><br />\n<a href="http://www.alignedmodernhealth.com/"><span style="border:none windowtext 1.0pt\;padding:0in\;text-decoration:none\;text-underline:none\;"><span style="color:#003E7E\;"><span style="font-family:arial\,sans-serif\;"><span style="font-size:10.5pt\;">Aligned Modern Health&nbsp\;</span></span></span></span></a><span style="font-family:arial\,sans-serif\;"><span style="font-size:10.5pt\;">&nbsp\;<br />\n<a href="http://www.abitofthis.com/" style="border-image-source:none\;border-image-slice:100% 1 0\;border-image-repeat:stretch\;border-top-left-radius:0px\;border-top-right-radius:0px\;border-bottom-right-radius:0px\;border-bottom-left-radius:0px\;bottom:auto\;box-sizing:content-box\;content:normal\;empty-cells:show\;max-height:none\;max-width:none\;opacity:1\;outline:invert none medium\;outline-offset:0px\;resize:none\;text-justify:inherit\;text-overflow:clip\;word-break:inherit\;word-wrap:break-word\;box-shadow:none\;float:none\;overflow:visible\;right:auto\;visibility:inherit\;z-index:auto\;"><span style="border:none windowtext 1.0pt\;padding:0in\;text-decoration:none\;text-underline:none\;"><span style="color:#003E7E\;"><span style="font-family:arial\,sans-serif\;"><span style="font-size:10.5pt\;">A Little Bit of This</span></span></span></span></a>&nbsp\;</span></span><br />\n<span style="font-family:arial\,sans-serif\;"><span style="font-size:10.5pt\;"><a href="http://www.athleta.com/">Athleta</a> </span></span><br />\n<a href="https://www.facebook.com/BabyDollsBoutiqueChicago" style="border-image-source:none\;border-image-slice:100% 1 0\;border-image-repeat:stretch\;border-top-left-radius:0px\;border-top-right-radius:0px\;border-bottom-right-radius:0px\;border-bottom-left-radius:0px\;bottom:auto\;box-sizing:content-box\;content:normal\;empty-cells:show\;max-height:none\;max-width:none\;opacity:1\;outline:invert none medium\;outline-offset:0px\;resize:none\;text-justify:inherit\;text-overflow:clip\;word-break:inherit\;word-wrap:break-word\;box-shadow:none\;float:none\;overflow:visible\;right:auto\;visibility:inherit\;z-index:auto\;"><span style="border:none windowtext 1.0pt\;padding:0in\;text-decoration:none\;text-underline:none\;"><span style="color:#003E7E\;"><span style="font-family:arial\,sans-serif\;"><span style="font-size:10.5pt\;">Babydolls&nbsp\;Boutique</span></span></span></span></a>&nbsp\;<br />\n<span style="font-family:arial\,sans-serif\;"><span style="font-size:10.5pt\;"><a href="http://www.bazar-online.com/">Bazar</a></span></span><br />\n<span style="font-family:arial\,sans-serif\;"><span style="font-size:10.5pt\;"><a href="http://www.bethieb.com/">bethie b.</a></span></span><br />\n<a href="https://www.facebook.com/ChicagoCatering" style="border-image-source:none\;border-image-slice:100% 1 0\;border-image-repeat:stretch\;border-top-left-radius:0px\;border-top-right-radius:0px\;border-bottom-right-radius:0px\;border-bottom-left-radius:0px\;bottom:auto\;box-sizing:content-box\;content:normal\;empty-cells:show\;max-height:none\;max-width:none\;opacity:1\;outline:invert none medium\;outline-offset:0px\;resize:none\;text-justify:inherit\;text-overflow:clip\;word-break:inherit\;word-wrap:break-word\;box-shadow:none\;float:none\;overflow:visible\;right:auto\;visibility:inherit\;z-index:auto\;"><span style="border:none windowtext 1.0pt\;padding:0in\;text-decoration:none\;text-underline:none\;"><span style="color:#003E7E\;"><span style="font-family:arial\,sans-serif\;"><span style="font-size:10.5pt\;">Caf&eacute\;&nbsp\;Tola</span></span></span></span></a><span style="font-family:arial\,sans-serif\;"><span style="font-size:10.5pt\;">&nbsp\;<br />\n<a href="https://www.facebook.com/clickshoes" style="border-image-source:none\;border-image-slice:100% 1 0\;border-image-repeat:stretch\;border-top-left-radius:0px\;border-top-right-radius:0px\;border-bottom-right-radius:0px\;border-bottom-left-radius:0px\;bottom:auto\;box-sizing:content-box\;content:normal\;empty-cells:show\;max-height:none\;max-width:none\;opacity:1\;outline:invert none medium\;outline-offset:0px\;resize:none\;text-justify:inherit\;text-overflow:clip\;word-break:inherit\;word-wrap:break-word\;box-shadow:none\;float:none\;overflow:visible\;right:auto\;visibility:inherit\;z-index:auto\;"><span style="border:none windowtext 1.0pt\;padding:0in\;text-decoration:none\;text-underline:none\;"><span style="color:#003E7E\;"><span style="font-family:arial\,sans-serif\;"><span style="font-size:10.5pt\;">Click Shoes</span></span></span></span></a><span style="font-family:arial\,sans-serif\;"><span style="font-size:10.5pt\;">&nbsp\;<br />\n<a href="http://www.davidstea.com/" style="border-image-source:none\;border-image-slice:100% 1 0\;border-image-repeat:stretch\;border-top-left-radius:0px\;border-top-right-radius:0px\;border-bottom-right-radius:0px\;border-bottom-left-radius:0px\;bottom:auto\;box-sizing:content-box\;content:normal\;empty-cells:show\;max-height:none\;max-width:none\;opacity:1\;outline:invert none medium\;outline-offset:0px\;resize:none\;text-justify:inherit\;text-overflow:clip\;word-break:inherit\;word-wrap:break-word\;box-shadow:none\;float:none\;overflow:visible\;right:auto\;visibility:inherit\;z-index:auto\;"><span style="border:none windowtext 1.0pt\;padding:0in\;text-decoration:none\;text-underline:none\;"><span style="color:#003E7E\;"><span style="font-family:arial\,sans-serif\;"><span style="font-size:10.5pt\;">DAVIDsTEA</span></span></span></span></a><span style="font-family:arial\,sans-serif\;"><span style="font-size:10.5pt\;">&nbsp\;<br />\n<a href="http://www.dog-a-holics.com/" style="border-image-source:none\;border-image-slice:100% 1 0\;border-image-repeat:stretch\;border-top-left-radius:0px\;border-top-right-radius:0px\;border-bottom-right-radius:0px\;border-bottom-left-radius:0px\;bottom:auto\;box-sizing:content-box\;content:normal\;empty-cells:show\;max-height:none\;max-width:none\;opacity:1\;outline:invert none medium\;outline-offset:0px\;resize:none\;text-justify:inherit\;text-overflow:clip\;word-break:inherit\;word-wrap:break-word\;box-shadow:none\;float:none\;overflow:visible\;right:auto\;visibility:inherit\;z-index:auto\;"><span style="border:none windowtext 1.0pt\;padding:0in\;text-decoration:none\;text-underline:none\;"><span style="color:#003E7E\;"><span style="font-family:arial\,sans-serif\;"><span style="font-size:10.5pt\;">Dog-a-holics</span></span></span></span></a>&nbsp\; </span></span></span></span></span></span><br />\n<span style="font-family:arial\,sans-serif\;"><span style="font-size:10.5pt\;"><a href="http://www.waxcenter.com/il-chicago-southport-ave">European Wax Center</a></span></span><br />\n<span style="font-family:arial\,sans-serif\;"><span style="font-size:10.5pt\;"><a href="http://www.francescas.com/store-locator.do?eslSearchInput1=60613&amp\;eslSearchButton1=LOCATE&amp\;method=viewSearchPage">Francesca&rsquo\;s Collections</a></span></span><br />\n<span style="font-family:arial\,sans-serif\;"><span style="font-size:10.5pt\;"><a href="http://www.gap.com/">Gap</a></span></span><br />\n<a href="https://www.facebook.com/shophotmama" style="border-image-source:none\;border-image-slice:100% 1 0\;border-image-repeat:stretch\;border-top-left-radius:0px\;border-top-right-radius:0px\;border-bottom-right-radius:0px\;border-bottom-left-radius:0px\;bottom:auto\;box-sizing:content-box\;content:normal\;empty-cells:show\;max-height:none\;max-width:none\;opacity:1\;outline:invert none medium\;outline-offset:0px\;resize:none\;text-justify:inherit\;text-overflow:clip\;word-break:inherit\;word-wrap:break-word\;box-shadow:none\;float:none\;overflow:visible\;right:auto\;visibility:inherit\;z-index:auto\;"><span style="border:none windowtext 1.0pt\;padding:0in\;text-decoration:none\;text-underline:none\;"><span style="color:#003E7E\;"><span style="font-family:arial\,sans-serif\;"><span style="font-size:10.5pt\;">Hot Mama</span></span></span></span></a>&nbsp\;<br />\n<span style="font-family:arial\,sans-serif\;"><span style="font-size:10.5pt\;"><a href="http://www.kristak.com/">Krista K</a></span></span><br />\n<a href="https://www.facebook.com/mboutique.southport" style="border-image-source:none\;border-image-slice:100% 1 0\;border-image-repeat:stretch\;border-top-left-radius:0px\;border-top-right-radius:0px\;border-bottom-right-radius:0px\;border-bottom-left-radius:0px\;bottom:auto\;box-sizing:content-box\;content:normal\;empty-cells:show\;max-height:none\;max-width:none\;opacity:1\;outline:invert none medium\;outline-offset:0px\;resize:none\;text-justify:inherit\;text-overflow:clip\;word-break:inherit\;word-wrap:break-word\;box-shadow:none\;float:none\;overflow:visible\;right:auto\;visibility:inherit\;z-index:auto\;"><span style="border:none windowtext 1.0pt\;padding:0in\;text-decoration:none\;text-underline:none\;"><span style="color:#003E7E\;"><span style="font-family:arial\,sans-serif\;"><span style="font-size:10.5pt\;">M2&nbsp\;Boutique</span></span></span></span></a><span style="font-family:arial\,sans-serif\;"><span style="font-size:10.5pt\;">&nbsp\;<br />\n<a href="http://www.facebook.com/pages/Mint-Julep/34089828177" style="border-image-source:none\;border-image-slice:100% 1 0\;border-image-repeat:stretch\;border-top-left-radius:0px\;border-top-right-radius:0px\;border-bottom-right-radius:0px\;border-bottom-left-radius:0px\;bottom:auto\;box-sizing:content-box\;content:normal\;empty-cells:show\;max-height:none\;max-width:none\;opacity:1\;outline:invert none medium\;outline-offset:0px\;resize:none\;text-justify:inherit\;text-overflow:clip\;word-break:inherit\;word-wrap:break-word\;box-shadow:none\;float:none\;overflow:visible\;right:auto\;visibility:inherit\;z-index:auto\;"><span style="border:none windowtext 1.0pt\;padding:0in\;text-decoration:none\;text-underline:none\;"><span style="color:#003E7E\;"><span style="font-family:arial\,sans-serif\;"><span style="font-size:10.5pt\;">Mint Julep</span></span></span></span></a><span style="font-family:arial\,sans-serif\;"><span style="font-size:10.5pt\;">&nbsp\;<br />\n<a href="http://www.secondtimearound.net/" style="border-image-source:none\;border-image-slice:100% 1 0\;border-image-repeat:stretch\;border-top-left-radius:0px\;border-top-right-radius:0px\;border-bottom-right-radius:0px\;border-bottom-left-radius:0px\;bottom:auto\;box-sizing:content-box\;content:normal\;empty-cells:show\;max-height:none\;max-width:none\;opacity:1\;outline:invert none medium\;outline-offset:0px\;resize:none\;text-justify:inherit\;text-overflow:clip\;word-break:inherit\;word-wrap:break-word\;box-shadow:none\;float:none\;overflow:visible\;right:auto\;visibility:inherit\;z-index:auto\;"><span style="border:none windowtext 1.0pt\;padding:0in\;text-decoration:none\;text-underline:none\;"><span style="color:#003E7E\;"><span style="font-family:arial\,sans-serif\;"><span style="font-size:10.5pt\;">&#8203\;Second Time Around</span></span></span></span></a>&nbsp\; </span></span></span></span><br />\n<span style="font-family:arial\,sans-serif\;"><span style="font-size:10.5pt\;"><a href="http://www.snipkid.com/index.htm">Snippet&rsquo\;s Mini-Cuts</a></span></span><br />\n<a href="http://www.https/www.facebook.com/pages/She-One/56901388057" style="border-image-source:none\;border-image-slice:100% 1 0\;border-image-repeat:stretch\;border-top-left-radius:0px\;border-top-right-radius:0px\;border-bottom-right-radius:0px\;border-bottom-left-radius:0px\;bottom:auto\;box-sizing:content-box\;content:normal\;empty-cells:show\;max-height:none\;max-width:none\;opacity:1\;outline:invert none medium\;outline-offset:0px\;resize:none\;text-justify:inherit\;text-overflow:clip\;word-break:inherit\;word-wrap:break-word\;box-shadow:none\;float:none\;overflow:visible\;right:auto\;visibility:inherit\;z-index:auto\;"><span style="border:none windowtext 1.0pt\;padding:0in\;text-decoration:none\;text-underline:none\;"><span style="color:#003E7E\;"><span style="font-family:arial\,sans-serif\;"><span style="font-size:10.5pt\;">She One</span></span></span></span></a>&nbsp\;<br />\n<span style="font-family:arial\,sans-serif\;"><span style="font-size:10.5pt\;"><a href="http://www.splendid.com/">Splendid</a></span></span><br />\n<span style="font-family:arial\,sans-serif\;"><span style="font-size:10.5pt\;"><a href="http://stellabluedesign.com/index2.php#/home/">Stella Blue Design</a><br />\n<a href="http://www.teavana.com/retail/united-states/illinois/chicago/teavana-fine-teas-tea-bar(427)">Teavana</a></span></span><br />\n<span style="font-family:arial\,sans-serif\;"><span style="font-size:10.5pt\;"><a href="http://www.thatsamoreflorist.com/">That&rsquo\;s Amore</a></span></span><br />\n<a href="https://www.facebook.com/UncleDans" style="border-image-source:none\;border-image-slice:100% 1 0\;border-image-repeat:stretch\;border-top-left-radius:0px\;border-top-right-radius:0px\;border-bottom-right-radius:0px\;border-bottom-left-radius:0px\;bottom:auto\;box-sizing:content-box\;content:normal\;empty-cells:show\;max-height:none\;max-width:none\;opacity:1\;outline:invert none medium\;outline-offset:0px\;resize:none\;text-justify:inherit\;text-overflow:clip\;word-break:inherit\;word-wrap:break-word\;box-shadow:none\;float:none\;overflow:visible\;right:auto\;visibility:inherit\;z-index:auto\;"><span style="border:none windowtext 1.0pt\;padding:0in\;text-decoration:none\;text-underline:none\;"><span style="color:#003E7E\;"><span style="font-family:arial\,sans-serif\;"><span style="font-size:10.5pt\;">Uncle Dan&rsquo\;s</span></span></span></span></a><br />\n<br />\n&nbsp\;
LOCATION:Southport (Belmont-Irving)
UID:e.1819.319
SEQUENCE:3
DTSTAMP:20260424T051152Z
URL:https://members.lakeviewroscoevillage.org/events/details/annual-sidewalk-sale-on-southport-07-19-2014-319
END:VEVENT

END:VCALENDAR
