BEGIN:VCALENDAR
VERSION:2.0
PRODID:-//ChamberMaster//Event Calendar 2.0//EN
METHOD:PUBLISH
X-PUBLISHED-TTL:P3D
REFRESH-INTERVAL:P3D
CALSCALE:GREGORIAN
BEGIN:VEVENT
DTSTART:20131121T230000Z
DTEND:20131122T020000Z
X-MICROSOFT-CDO-ALLDAYEVENT:FALSE
SUMMARY:Annual Southport VIP Night
DESCRIPTION:Enjoy the festive holiday atmosphere on Southport as merchants illuminate their holiday lights for a fun evening!\n\n\n\nWe're rolling out the red carpet and invite you to enjoy refreshments and special offers at participating Southport Businesses.\n\n\n\nYou won't want to miss this fun\, annual night of shopping and dining!\n\n\n\nParticipating businesses\, while supplies last \n\n	Aligned Modern Health Chair massages\, food and wine\, special pricing on services.\n\n	Baby Dolls Boutique Libations/onsite jewelry designer\, raffles\, and sales\n\n	Big City Dental Raffle & discounts for Sonicare Toothbrush\, Oral B toothbrush and take home whitening kit.\n\n	Caf  Tola Buy 2 empanadas\, get a FREE 12oz Mexican hot chocolate or 12 oz coffee.\n\n	Dairy Queen 25% off everything from 5-8pm.\n\n	DAVIDsTEA Open Tea Bar and Spend $30 to receive a FREE mini kit\n\n	Dog-a-holics Boutique VIP Swag Tote & Gifts\, plus up to 30% off could be yours\n\n	European Wax Center $10 gift card if returning guest brings a new guest with them\, plus guest will have name entered into a raffle to win a 7-visit pass\n\n	Hair Cuttery Gift bags with sample products and coupons\, plus 25% off gift sets\n\n	Indira Salon Spa Come in and get treated like a VIP\n\n	Jeni's Splendid Ice Creams Come in and get treated like a VIP\n\n	M2 Boutique & M4 Men Pick your discount! Save up to 40% off entire purchase! Check your receipt to win a wristlet\, pashmina\, or gift card! Swag bag giveaway with $75 purchase (worth $150).\n\n	MB Financial Raffle\, giveaways\, food/drinks\, and games\n\n	Mint Julep K. Amato trunk show\, including a gift with the purchase of a K. Amato necklace.\n\n	Mystic Celt Buy 1 appetizer\, get 1 appetizer free.\n\n	Noodles and Co. Buy any wine\, receive a free bowl.\n\n	Persona 15% off on holiday ornaments. 15% off on all jewelry. Snacks will be served.\n\n	She One Boutique 20% off all regular priced items\, as well as\, drinks and treats\n\n	Stella Blue Designs Come in and get treated like a VIP\n\n	Suvarna Chiropractic Live music with singer/songwriter Vivian Garcia. Food\, beverages\, raffle. $20 gift card towards a future service at Suvarna Chiropractic.\n\n	Uncle Dan's 10% off entire purchase and swag bag with every purchase\n\n	White Birch Trading Co. 30% off select holiday merchandise\, snacks\, and beverages.
X-ALT-DESC;FMTTYPE=text/html:Enjoy the festive holiday atmosphere on Southport as merchants illuminate their holiday lights for a fun evening!<br />\n<br />\nWe&#39\;re rolling out the red carpet and invite you to enjoy refreshments and special offers at participating Southport Businesses.<br />\n<br />\nYou won&#39\;t&nbsp\;want to miss this&nbsp\;fun\, annual night of shopping and dining!<br />\n<br />\n<span style="font-size: 10pt\;"><span style="font-family: calibri\,sans-serif\;"><font face="SansitaOne"><strong>Participating businesses\, while supplies last</strong>&hellip\;</font></span></span>\n<p align="LEFT">\n	<span style="font-size: 10pt\;"><span style="font-family: calibri\,sans-serif\;"><font face="FedraSansAltStd-Book" size="2"><font face="FedraSansAltStd-Book" size="2">Aligned Modern Health Chair massages\, food and wine\, special pricing on services.</font></font></span></span></p>\n<p align="LEFT">\n	<span style="font-size: 10pt\;"><span style="font-family: calibri\,sans-serif\;"><font face="FedraSansAltStd-Book" size="2"><font face="FedraSansAltStd-Book" size="2">Baby Dolls Boutique Libations/onsite jewelry designer\, raffles\, and sales</font></font></span></span></p>\n<p align="LEFT">\n	<span style="font-size: 10pt\;"><span style="font-family: calibri\,sans-serif\;"><font face="FedraSansAltStd-Book" size="2"><font face="FedraSansAltStd-Book" size="2">Big City Dental Raffle &amp\; discounts for Sonicare Toothbrush\, Oral B toothbrush and take </font></font><font face="FedraSansAltStd-Book" size="2"><font face="FedraSansAltStd-Book" size="2">home whitening kit.</font></font></span></span></p>\n<p align="LEFT">\n	<span style="font-size: 10pt\;"><span style="font-family: calibri\,sans-serif\;"><font face="FedraSansAltStd-Book" size="2"><font face="FedraSansAltStd-Book" size="2">Caf&eacute\; Tola Buy 2 empanadas\, get a FREE 12oz Mexican hot chocolate or 12 oz coffee.</font></font></span></span></p>\n<p align="LEFT">\n	<span style="font-size: 10pt\;"><span style="font-family: calibri\,sans-serif\;"><font face="FedraSansAltStd-Book" size="2"><font face="FedraSansAltStd-Book" size="2">Dairy Queen 25% off everything from 5-8pm.</font></font></span></span></p>\n<p align="LEFT">\n	<span style="font-size: 10pt\;"><span style="font-family: calibri\,sans-serif\;"><font face="FedraSansAltStd-Book" size="2"><font face="FedraSansAltStd-Book" size="2">DAVIDsTEA Open Tea Bar and Spend $30 to receive a FREE mini kit</font></font></span></span></p>\n<p align="LEFT">\n	<span style="font-size: 10pt\;"><span style="font-family: calibri\,sans-serif\;"><font face="FedraSansAltStd-Book" size="2"><font face="FedraSansAltStd-Book" size="2">Dog-a-holics Boutique VIP Swag Tote &amp\; Gifts\, plus up to 30% off could be yours</font></font></span></span></p>\n<p align="LEFT">\n	<span style="font-size: 10pt\;"><span style="font-family: calibri\,sans-serif\;"><font face="FedraSansAltStd-Book" size="2"><font face="FedraSansAltStd-Book" size="2">European Wax Center $10 gift card if returning guest brings a new guest with them\, plus guest </font></font><font face="FedraSansAltStd-Book" size="2"><font face="FedraSansAltStd-Book" size="2">will have name entered into a raffle to win a 7-visit pass</font></font></span></span></p>\n<p align="LEFT">\n	<span style="font-size: 10pt\;"><span style="font-family: calibri\,sans-serif\;"><font face="FedraSansAltStd-Book" size="2"><font face="FedraSansAltStd-Book" size="2">Hair Cuttery Gift bags with sample products and coupons\, plus 25% off gift sets</font></font></span></span></p>\n<p align="LEFT">\n	<span style="font-size: 10pt\;"><span style="font-family: calibri\,sans-serif\;"><font face="FedraSansAltStd-Book" size="2"><font face="FedraSansAltStd-Book" size="2">Indira Salon Spa Come in and get treated like a VIP</font></font></span></span></p>\n<p align="LEFT">\n	<span style="font-size: 10pt\;"><span style="font-family: calibri\,sans-serif\;"><font face="FedraSansAltStd-Book" size="2"><font face="FedraSansAltStd-Book" size="2">Jeni&rsquo\;s Splendid Ice Creams Come in and get treated like a VIP</font></font></span></span></p>\n<p align="LEFT">\n	<span style="font-size: 10pt\;"><span style="font-family: calibri\,sans-serif\;"><font face="FedraSansAltStd-Book" size="2"><font face="FedraSansAltStd-Book" size="2">M2 Boutique &amp\; M4 Men Pick your discount! Save up to 40% off entire purchase! Check your receipt </font></font><font face="FedraSansAltStd-Book" size="2"><font face="FedraSansAltStd-Book" size="2">to win a wristlet\, pashmina\, or gift card! Swag bag giveaway with </font></font><font face="FedraSansAltStd-Book" size="2"><font face="FedraSansAltStd-Book" size="2">$75 purchase (worth $150).</font></font></span></span></p>\n<p align="LEFT">\n	<span style="font-size: 10pt\;"><span style="font-family: calibri\,sans-serif\;"><font face="FedraSansAltStd-Book" size="2"><font face="FedraSansAltStd-Book" size="2">MB Financial Raffle\, giveaways\, food/drinks\, and games</font></font></span></span></p>\n<p align="LEFT">\n	<span style="font-size: 10pt\;"><span style="font-family: calibri\,sans-serif\;"><font face="FedraSansAltStd-Book" size="2"><font face="FedraSansAltStd-Book" size="2">Mint Julep K. Amato trunk show\, including a gift with the purchase of a K. Amato </font></font><font face="FedraSansAltStd-Book" size="2"><font face="FedraSansAltStd-Book" size="2">necklace.</font></font></span></span></p>\n<p align="LEFT">\n	<span style="font-size: 10pt\;"><span style="font-family: calibri\,sans-serif\;"><font face="FedraSansAltStd-Book" size="2"><font face="FedraSansAltStd-Book" size="2">Mystic Celt Buy 1 appetizer\, get 1 appetizer free.</font></font></span></span></p>\n<p align="LEFT">\n	<span style="font-size: 10pt\;"><span style="font-family: calibri\,sans-serif\;"><font face="FedraSansAltStd-Book" size="2"><font face="FedraSansAltStd-Book" size="2">Noodles and Co. Buy any wine\, receive a free bowl.</font></font></span></span></p>\n<p align="LEFT">\n	<span style="font-size: 10pt\;"><span style="font-family: calibri\,sans-serif\;"><font face="FedraSansAltStd-Book" size="2"><font face="FedraSansAltStd-Book" size="2">Persona 15% off on holiday ornaments. 15% off on all jewelry. Snacks will be served.</font></font></span></span></p>\n<p align="LEFT">\n	<span style="font-size: 10pt\;"><span style="font-family: calibri\,sans-serif\;"><font face="FedraSansAltStd-Book" size="2"><font face="FedraSansAltStd-Book" size="2">She One Boutique 20% off all regular priced items\, as well as\, drinks and treats</font></font></span></span></p>\n<p align="LEFT">\n	<span style="font-size: 10pt\;"><span style="font-family: calibri\,sans-serif\;"><font face="FedraSansAltStd-Book" size="2"><font face="FedraSansAltStd-Book" size="2">Stella Blue Designs Come in and get treated like a VIP</font></font></span></span></p>\n<p align="LEFT">\n	<span style="font-size: 10pt\;"><span style="font-family: calibri\,sans-serif\;"><font face="FedraSansAltStd-Book" size="2"><font face="FedraSansAltStd-Book" size="2">Suvarna Chiropractic Live music with singer/songwriter Vivian Garcia. Food\, beverages\, raffle. </font></font><font face="FedraSansAltStd-Book" size="2"><font face="FedraSansAltStd-Book" size="2">$20 gift card towards a future service at Suvarna Chiropractic.</font></font></span></span></p>\n<p align="LEFT">\n	<span style="font-size: 10pt\;"><span style="font-family: calibri\,sans-serif\;"><font face="FedraSansAltStd-Book" size="2"><font face="FedraSansAltStd-Book" size="2">Uncle Dan&rsquo\;s 10% off entire purchase and swag bag with every purchase</font></font></span></span></p>\n<p>\n	<span style="font-size: 10pt\;"><span style="font-family: calibri\,sans-serif\;"><font face="FedraSansAltStd-Book" size="2"><font face="FedraSansAltStd-Book" size="2">White Birch Trading Co. 30% off select holiday merchandise\, snacks\, and beverages.</font></font></span></span></p>\n
LOCATION:Southport Ave between Belmont and Irving Park
UID:e.1819.111
SEQUENCE:3
DTSTAMP:20260424T205633Z
URL:https://members.lakeviewroscoevillage.org/events/details/annual-southport-vip-night-11-21-2013-111
END:VEVENT

END:VCALENDAR
