BEGIN:VCALENDAR
VERSION:2.0
PRODID:-//ChamberMaster//Event Calendar 2.0//EN
METHOD:PUBLISH
X-PUBLISHED-TTL:P3D
REFRESH-INTERVAL:P3D
CALSCALE:GREGORIAN
BEGIN:VEVENT
DTSTART:20170423T230000Z
DTEND:20170424T020000Z
X-MICROSOFT-CDO-ALLDAYEVENT:FALSE
SUMMARY:April Weekend Intensive 12-hour Self-Defense Course for Women and Girls
DESCRIPTION:Friday\, April 21 6:00 - 9:00 pm\n\nSaturday\, April 22 1:30 -6:00 PM\n\nSunday\, April 23 1:30 - 6:00 PM\n\nOne weekend can change your life. This in-depth course is 12 hours over three days (Friday evening and Saturday and Sunday afternoon). Each day\, students have the opportunity to practice physical skills\, awareness skills\, verbal skills\, and social skills that will enhance their safety in a variety of situations. We use the Five Fingers of Self-Defense (Think\, Yell\, Run\, Fight\, and Tell) to teach people how to accurately assess their risk and respond to violence before it escalates\, while also teaching physical techniques to defend against direct physical and sexual assault. Classes are a mix of group discussion\, role plays\, and physical drills and activities. Our goal is to reduce both the prevalence and the harm of violence. Open to women and girls. Transwomen and genderqueer female-identified people welcome.
X-ALT-DESC;FMTTYPE=text/html:<p><span style="background-color:transparent\; color:rgb(0\, 0\, 0)\; font-family:calibri\; font-size:11pt">Friday\, April 21 6:00 - 9:00 pm</span></p>\n\n<p><span style="background-color:transparent\; color:rgb(0\, 0\, 0)\; font-family:calibri\; font-size:11pt">Saturday\, April 22 1:30 -6:00 PM</span></p>\n\n<p><span style="background-color:transparent\; color:rgb(0\, 0\, 0)\; font-family:calibri\; font-size:11pt">Sunday\, April 23 1:30 - 6:00 PM</span></p>\n\n<p><span style="background-color:transparent\; color:rgb(0\, 0\, 0)\; font-family:calibri\; font-size:11pt">One weekend can change your life. This in-depth course is 12 hours over three days (Friday evening and Saturday and Sunday afternoon). Each day\, students have the opportunity to practice physical skills\, awareness skills\, verbal skills\, and social skills that will enhance their safety in a variety of situations. We use the Five Fingers of Self-Defense (Think\, Yell\, Run\, Fight\, and Tell) to teach people how to accurately assess their risk and respond to violence before it escalates\, while also teaching physical techniques to defend against direct physical and sexual assault. Classes are a mix of group discussion\, role plays\, and physical drills and activities. Our goal is to reduce both the prevalence and the harm of violence. Open to women and girls. Transwomen and genderqueer female-identified people welcome.</span></p>\n
LOCATION:Thousand Waves Martial Arts & Self Defense Center\, NFP 1220 W Belmont Chicago\, IL 60657
UID:e.1819.5015
SEQUENCE:3
DTSTAMP:20260420T000338Z
URL:https://members.lakeviewroscoevillage.org/events/details/april-weekend-intensive-12-hour-self-defense-course-for-women-and-girls-04-23-2017-5015
END:VEVENT

END:VCALENDAR
