BEGIN:VCALENDAR
VERSION:2.0
PRODID:-//ChamberMaster//Event Calendar 2.0//EN
METHOD:PUBLISH
X-PUBLISHED-TTL:P3D
REFRESH-INTERVAL:P3D
CALSCALE:GREGORIAN
BEGIN:VEVENT
DTSTART:20170203T000000Z
DTEND:20170203T030000Z
X-MICROSOFT-CDO-ALLDAYEVENT:FALSE
SUMMARY:Art Masking with Metallics Painting Party!
DESCRIPTION:Tape. Paint. Pull. WOW. Repeat!\n\nBottle & Bottega is inviting you to join us for our NEW Art Masking event! Create beautiful\, graphic artwork on black canvas with the help of chic metallic paints and the support of our talented artists. No experience necessary   just the desire to have fun\, get a little creative\, and take home a beautiful on-trend piece of artwork that will dazzle in whatever space you desire.\n\nJoin us at our *BYOB*! Ticket price includes use of all necessary paint supplies and aprons\, instruction\, and take home canvas!\n\n\n\n6:00pm - 6:30pm BYOB Cocktail Reception\n\n6:30pm - 9:00pm Painting\n\n- First 30 minutes of the event is settle in and cocktail time! We are BYOB so bring what you would like to drink!\n\n- We have glasses\, wine openers\, plastic ware\, paper plates\, napkins and ice here for you. You're welcome to bring any food items\; please note table space is limited.\n\nTO REGISTER FOR THIS EVENT\, CLICK HERE: http://bit.ly/artmasking2-2\n\n \n\nCHECK OUT OUR YOUTUBE VIDEO HERE: https://www.youtube.com/watch?v=REh255z4TAo
X-ALT-DESC;FMTTYPE=text/html:<p><strong>Tape. Paint. Pull. WOW. Repeat!</strong></p>\n\n<p>Bottle &amp\; Bottega is inviting you to join us for our NEW Art Masking event! Create beautiful\, graphic artwork on black canvas with the help of chic metallic paints and the support of our talented artists. No experience necessary &ndash\; just the desire to have fun\, get a little creative\, and take home a beautiful on-trend piece of artwork that will dazzle in whatever space you desire.</p>\n\n<p>Join us at our *BYOB*! Ticket price includes use of all necessary paint supplies and aprons\, instruction\, and take home canvas!<br />\n<br />\n<strong>6:00pm - 6:30pm&nbsp\;</strong>BYOB Cocktail Reception<br />\n<strong>6:30pm - 9:00pm&nbsp\;</strong>Painting</p>\n\n<p>- First 30 minutes of the event is settle in and cocktail time! We are BYOB so bring what you would like to drink!<br />\n- We have glasses\, wine openers\, plastic ware\, paper plates\, napkins and ice here for you. You&rsquo\;re welcome to bring any food items\; please note table space is limited.</p>\n\n<p><strong>TO REGISTER FOR THIS EVENT\, CLICK HERE:&nbsp\;<a href="http://bit.ly/artmasking2-2" rel="noopener noreferrer nofollow" style="color: rgb(2\, 120\, 184)\; text-decoration: none\; padding-top: 0px\;" target="_blank">http://bit.ly/artmasking2-2<br />\n&#8203\;</a></strong><br />\n<strong><span style="background:white\;"><span style="color:#333333\;"><span style="font-family:arial\,sans-serif\;"><span style="font-size:10.0pt\;">CHECK OUT OUR YOUTUBE VIDEO HERE:&nbsp\;<a href="https://www.youtube.com/watch?v=REh255z4TAo" target="_blank"><span style="color:#0782C1\;">https://www.youtube.com/watch?v=</span><span style="color:#0782C1\;">REh255z4TA</span>o</a></span></span></span></span></strong><br />\n<br />\n&nbsp\;</p>\n
LOCATION:Bottle & Bottega Lakeview 2900 N Lincoln Ave Chicago\, IL 60657
UID:e.1819.4928
SEQUENCE:3
DTSTAMP:20260420T030911Z
URL:https://members.lakeviewroscoevillage.org/events/details/art-masking-with-metallics-painting-party-02-02-2017-4928
END:VEVENT

END:VCALENDAR
