BEGIN:VCALENDAR
VERSION:2.0
PRODID:-//ChamberMaster//Event Calendar 2.0//EN
METHOD:PUBLISH
X-PUBLISHED-TTL:P3D
REFRESH-INTERVAL:P3D
CALSCALE:GREGORIAN
BEGIN:VEVENT
DTSTART:20141020T230000Z
DTEND:20141021T020000Z
X-MICROSOFT-CDO-ALLDAYEVENT:FALSE
SUMMARY:Art Tasting
DESCRIPTION:Paint\, sip\, mingle\, repeat. Network and uncork your creativity with fellow Lakeview Chamber members!
X-ALT-DESC;FMTTYPE=text/html:Paint\, sip\, mingle\, repeat. Network and uncork your creativity with fellow Lakeview Chamber members!
LOCATION:Bottle & Bottega 2900 N Lincoln Ave. Chicago\, IL 60657
UID:e.1819.496
SEQUENCE:3
DTSTAMP:20260423T222633Z
URL:https://members.lakeviewroscoevillage.org/events/details/art-tasting-10-20-2014-496
END:VEVENT

END:VCALENDAR
