BEGIN:VCALENDAR
VERSION:2.0
PRODID:-//ChamberMaster//Event Calendar 2.0//EN
METHOD:PUBLISH
X-PUBLISHED-TTL:P3D
REFRESH-INTERVAL:P3D
CALSCALE:GREGORIAN
BEGIN:VEVENT
DTSTART:20150625T170000Z
DTEND:20150625T170000Z
X-MICROSOFT-CDO-ALLDAYEVENT:FALSE
SUMMARY:Art Tour
DESCRIPTION:Countryside Bank welcomes you to the 2015 Art Institute Tour. Please join us for a pre-social at 3pm for some drinks and small Appetizers located at 3323 N Clark. Bus will be promply leaving at 5:30pm to the Art Institute. To RSVP please call (773)665-2100 or at info@chicagoview.net
X-ALT-DESC;FMTTYPE=text/html:Countryside Bank welcomes you to the 2015 Art Institute Tour. Please join us for a pre-social at 3pm for some drinks and small Appetizers located at 3323 N Clark. Bus will be promply leaving at 5:30pm to the Art Institute. To RSVP please call (773)665-2100 or at info@chicagoview.net
LOCATION:3323 N Clark st
UID:e.1819.1774
SEQUENCE:3
DTSTAMP:20260423T073716Z
URL:https://members.lakeviewroscoevillage.org/events/details/art-tour-06-25-2015-1774
END:VEVENT

END:VCALENDAR
