BEGIN:VCALENDAR
VERSION:2.0
PRODID:-//ChamberMaster//Event Calendar 2.0//EN
METHOD:PUBLISH
X-PUBLISHED-TTL:P3D
REFRESH-INTERVAL:P3D
CALSCALE:GREGORIAN
BEGIN:VEVENT
DTSTART:20161020T233000Z
DTEND:20161021T010000Z
X-MICROSOFT-CDO-ALLDAYEVENT:FALSE
SUMMARY:Arthur Murray & Bitter Pops' OKTOBERFEST Guest Open House
DESCRIPTION:Join us for OKTOBERFEST\, right here in Lakeview! Arthur Murray is teaming up with our fabulous neighbors at Bitter Pops for a festive celebration of Dancing\, Mingling and Oktoberfest tastings!  We are exctied to open our doors to the neighborhood\, and EVERYONE is invited!  This promises to be a evening of fun\, whether you've thought about learning to dance for years\, or maybe this is just the perfect opporunity to taste test the Dancing on a festive whim!  You'll enjoy beginner dance lessons\, professional and student demonstations and of course\, beer pairings!\n\n \n\nThe first 20 guests to RSVP will receive a GIFT! \n\n*RSVPs will include ticket sales in studio\, and on Eventbrite: \n\nhttps://www.eventbrite.com/e/oktoberfest-guest-open-house-tickets-28464173108\n\n \n\nFirst time guests in attendance will be eligible for an exclusvie New Student Offer!\nCouples and Singles welcome!  Must be 21 and over to participate in the tastings.
X-ALT-DESC;FMTTYPE=text/html:<div><span style="color:#FF8C00"><strong>Join us for OKTOBERFEST\, right here in Lakeview! </strong></span>Arthur Murray is teaming up with our fabulous neighbors at Bitter Pops for a festive celebration of Dancing\, Mingling and Oktoberfest tastings!&nbsp\; We are exctied to open our doors to the neighborhood\, and EVERYONE is invited!&nbsp\; This promises to be a evening of fun\, whether you&#39\;ve thought about learning to dance for years\, or maybe this is just the perfect opporunity to taste test the Dancing on a festive whim!&nbsp\; You&#39\;ll enjoy beginner dance lessons\, professional and student demonstations and of course\, beer pairings!</div>\n\n<div>&nbsp\;</div>\n\n<div>The first 20 guests to RSVP will receive a GIFT!&nbsp\;</div>\n\n<div><em>*RSVPs will include ticket sales in studio\, and on Eventbrite: </em><br />\nhttps://www.eventbrite.com/e/oktoberfest-guest-open-house-tickets-28464173108</div>\n\n<div>&nbsp\;</div>\n\n<div>First time guests in attendance will be eligible for an exclusvie New Student Offer!</div>\nCouples and Singles welcome!&nbsp\; Must be 21 and over to participate in the tastings.
LOCATION:Arthur Murray Lakeview 3301 N Lincoln Ave Chicago\, IL 60657 773-697-8005 LakeviewInfo@ChicagoArthurMurray.com
UID:e.1819.3825
SEQUENCE:3
DTSTAMP:20260422T085408Z
URL:https://members.lakeviewroscoevillage.org/events/details/arthur-murray-bitter-pops-oktoberfest-guest-open-house-10-20-2016-3825
END:VEVENT

END:VCALENDAR
