BEGIN:VCALENDAR
VERSION:2.0
PRODID:-//ChamberMaster//Event Calendar 2.0//EN
METHOD:PUBLISH
X-PUBLISHED-TTL:P3D
REFRESH-INTERVAL:P3D
CALSCALE:GREGORIAN
BEGIN:VEVENT
DTSTART:20160205T000000Z
DTEND:20160205T013000Z
X-MICROSOFT-CDO-ALLDAYEVENT:FALSE
SUMMARY:Arthur Murray Dance Centers Open House
DESCRIPTION:Lakeview Neighbors\, Friends\, Family\, Co-workers...ALL ARE WELCOME! Whether you've been thinking about learning to dance for years or just newly intrigued to see what Arthur Murray Chicago North is all about\, we would love to meet you and have you join us for this Complimentary Evening! Space is limited\, so please RSVP today: 773-697-8005!
X-ALT-DESC;FMTTYPE=text/html:<span style="color: rgb(20\, 24\, 35)\; font-family: helvetica\, arial\, sans-serif\; font-size: 14px\; line-height: 18.76px\;">Lakeview Neighbors\, Friends\, Family\, Co-workers...ALL ARE WELCOME! Whether you&#39\;ve been thinking about learning to dance for years or just newly intrigued to see what Arthur Murray Chicago North is all about\, we would love to meet you and have you join us for this Complimentary Evening! Space is limited\, so please RSVP today: 773-697-8005!</span>
LOCATION:Arthur Murray Chicago North\, 3301 N Lincoln Ave\, Chicago
UID:e.1819.2689
SEQUENCE:3
DTSTAMP:20260422T184359Z
URL:https://members.lakeviewroscoevillage.org/events/details/arthur-murray-dance-centers-open-house-02-04-2016-2689
END:VEVENT

END:VCALENDAR
