BEGIN:VCALENDAR
VERSION:2.0
PRODID:-//ChamberMaster//Event Calendar 2.0//EN
METHOD:PUBLISH
X-PUBLISHED-TTL:P3D
REFRESH-INTERVAL:P3D
CALSCALE:GREGORIAN
BEGIN:VEVENT
DTSTART:20160924T151500Z
DTEND:20160924T160000Z
X-MICROSOFT-CDO-ALLDAYEVENT:FALSE
SUMMARY:Arthur's Kids Youth Dance Class
DESCRIPTION:Do your kids love MUSIC and DANCING?  \n\nArthur Murray has been teaching the world to dance for over 100 years and we are proud to build the next 100 years through our Youth Dance Program\, Arthur's Kids.\n\n \n\nYou will be pleased with the ease of progress\, and enjoyment your child will experience through qualified and enthusiastic instruction.  Arthur's Kids is a fun and easy introduction to music and dance. The program teaches rhythm and timing with dance and creative movement.  Kids learn basic dance skills through movement\, dance and music games\, through the introduction of popular social dances.   They may learn basics to Waltz\, Foxtrot\, Tango\, Swing\, Salsa\, Rumba\, Cha Cha\, Hustle\, and more! \n\n \n\nArthur's Kids is offered to dancers ages 4-12 years old.  \n\nNo partner is needed to participate and no experience is necessary!  Each session includes 6 weeks of Arthur's Kids Group Lessons.    \n\n \n\nDancing is about more than the steps  it is also a powerful tool for many important long term life skills!\n\nBesides having tons of FUN\, your kids will: \n\n  Develop their Self Confidence\n\n  Build a Sense of Discipline\n\n  Nurture their Artistic and Creative Abilities\n\n  Be Active & Healthy in a Fun\, Safe Environment\n\n  Enhance their Coordination and Agility\n\n  Meet New Friends\n\n  Learn Social Graces & Etiquette
X-ALT-DESC;FMTTYPE=text/html:<strong><span style="font-family:copperplate gothic light"><span style="font-size:16.0pt">Do your kids love MUSIC and DANCING?&nbsp\; </span></span></strong><br />\n<span style="font-family:eras demi itc"><span style="font-size:12.0pt">Arthur Murray has been teaching the world to dance for over 100 years and we are proud to build the next 100 years through our Youth Dance Program\, Arthur&rsquo\;s Kids.</span></span><br />\n&nbsp\;<br />\n<span style="font-family:eras demi itc"><span style="font-size:12.0pt">You will be pleased with the ease of progress\, and enjoyment your child will experience through qualified and enthusiastic instruction.&nbsp\; Arthur&#39\;s Kids is a fun and easy introduction to music and dance. The program teaches rhythm and timing with dance and creative movement.&nbsp\; Kids learn basic dance skills through movement\, dance and music games\, through the introduction of popular social dances.&nbsp\;&nbsp\; They may learn basics to Waltz\, Foxtrot\, Tango\, Swing\, Salsa\, Rumba\, Cha Cha\, Hustle\, and more! </span></span><br />\n&nbsp\;<br />\n<span style="font-family:eras demi itc"><span style="font-size:12.0pt">Arthur&rsquo\;s Kids is offered to dancers ages 4-12 years old.&nbsp\; </span></span><br />\n<span style="font-family:eras demi itc"><span style="font-size:12.0pt">No partner is needed to participate and no experience is necessary!&nbsp\; Each session includes 6 weeks of Arthur&rsquo\;s Kids Group Lessons.&nbsp\;&nbsp\;&nbsp\; </span></span><br />\n&nbsp\;<br />\n<strong><span style="font-family:eras demi itc"><span style="font-size:14.0pt">Dancing is about more than the steps&ndash\; it is also a powerful tool for many important long term life skills!</span></span></strong><br />\n<span style="font-family:eras demi itc"><span style="font-size:11.0pt">Besides having tons of FUN\, your kids will: </span></span><br />\n<span style="color:#4D4D4D"><span style="font-size:8.0pt"><span style="font-family:symbol">&middot\;</span></span></span>&nbsp\;<span style="font-family:eras demi itc"><span style="font-size:11.0pt">Develop their Self Confidence</span></span><br />\n<span style="color:#4D4D4D"><span style="font-size:8.0pt"><span style="font-family:symbol">&middot\;</span></span></span>&nbsp\;<span style="font-family:eras demi itc"><span style="font-size:11.0pt">Build a Sense of Discipline</span></span><br />\n<span style="color:#4D4D4D"><span style="font-size:8.0pt"><span style="font-family:symbol">&middot\;</span></span></span>&nbsp\;<span style="font-family:eras demi itc"><span style="font-size:11.0pt">Nurture their Artistic and Creative Abilities</span></span><br />\n<span style="color:#4D4D4D"><span style="font-size:8.0pt"><span style="font-family:symbol">&middot\;</span></span></span>&nbsp\;<span style="font-family:eras demi itc"><span style="font-size:11.0pt">Be Active &amp\; Healthy in a Fun\, Safe Environment</span></span><br />\n<span style="color:#4D4D4D"><span style="font-size:8.0pt"><span style="font-family:symbol">&middot\;</span></span></span>&nbsp\;<span style="font-family:eras demi itc"><span style="font-size:11.0pt">Enhance their Coordination and Agility</span></span><br />\n<span style="color:#4D4D4D"><span style="font-size:8.0pt"><span style="font-family:symbol">&middot\;</span></span></span>&nbsp\;<span style="font-family:eras demi itc"><span style="font-size:11.0pt">Meet New Friends</span></span><br />\n<span style="color:#4D4D4D"><span style="font-size:8.0pt"><span style="font-family:symbol">&middot\;</span></span></span>&nbsp\;<span style="font-family:eras demi itc"><span style="font-size:11.0pt">Learn Social Graces &amp\; Etiquette</span></span><br />\n&nbsp\;<br />\n&nbsp\;<br />\n&nbsp\;
LOCATION:
UID:e.1819.3533
SEQUENCE:3
DTSTAMP:20260422T062237Z
URL:https://members.lakeviewroscoevillage.org/events/details/arthur-s-kids-youth-dance-class-09-24-2016-3533
END:VEVENT

END:VCALENDAR
