BEGIN:VCALENDAR
VERSION:2.0
PRODID:-//ChamberMaster//Event Calendar 2.0//EN
METHOD:PUBLISH
X-PUBLISHED-TTL:P3D
REFRESH-INTERVAL:P3D
CALSCALE:GREGORIAN
BEGIN:VEVENT
DTSTART:20161214T000000Z
DTEND:20161214T030000Z
X-MICROSOFT-CDO-ALLDAYEVENT:FALSE
SUMMARY:Arts & Crafts at Beermiscuous: CHEERS to CHICAGO w/ beer flight!
DESCRIPTION:Join us at the craft beer caf  Beermiscuous (2812 North Lincoln Ave) as we help you paint a gorgeous cityscape! Ticket price includes a flight of beer (four\, 4 oz. drafts) plus all paint supplies\, instruction\, aprons and a 10x10 take-home canvas!\n\nBecause this event is at a beer cafe\, this is not a BYOB event. However\, feel free to bring snacks!\n\n6:00pm - 6:30pm Beer Flight\n\n6:30pm - 9:00pm Painting  \n\n- The first 30 minutes of the event is the time to settle in and have your beer flight! Because this event is at a place that sells alcohol\, it is not BYOB. You may purchase alcohol from the establishment. However\, feel free to bring snacks! Please note\, table space is limited.\n\nREGISTER HERE: https://sites.cimplebox.com/events/event.aspx?s=3291&c=1650&eid=195938&r=0.1358581\n\nCancellations: Cancellations made within 48 hours are subject only to a credit. We are sorry but there will be no refunds on no-shows.\n\nAlcohol: Because this event is at a beer cafe\, attendance and alcohol consumption is permitted only for adults 21 and over. Please have an ID available.\n\nImages: Feel like going rogue? The instructor will teach the image featured on the calendar step by step\, but they are happy to answer questions if you choose to paint something else. Painting a different image than the one being taught is NOT recommended for beginners.\n\nPromo codes: Promo codes invalid Friday through Saturday\, as well as at off-site events and special events.\n\nEvent Minimums: This event needs 10 registrations to run. We will reach out prior to the event if there is a chance of cancellation.
X-ALT-DESC;FMTTYPE=text/html:<div>\n<p>Join us at the craft beer caf&eacute\; Beermiscuous (2812 North Lincoln Ave) as we help you paint a gorgeous cityscape! Ticket price includes a flight of beer (four\, 4 oz. drafts) plus all paint supplies\, instruction\, aprons and a 10x10 take-home canvas!</p>\n\n<p>Because this event is at a beer cafe\, this is not a BYOB event. However\, feel free to bring snacks!</p>\n\n<p><strong>6:00pm - 6:30pm&nbsp\;</strong>Beer Flight<br />\n<strong>6:30pm&nbsp\;- 9:00pm&nbsp\;</strong>Painting &nbsp\;</p>\n\n<p>- The first 30 minutes of the event is the time to settle in and have your beer flight! Because this event is at a place that sells alcohol\, it is not BYOB. You may purchase alcohol from the establishment.&nbsp\;However\, feel free to bring snacks! Please note\, table space is limited.</p>\n\n<p><strong>REGISTER HERE</strong>:&nbsp\;<a href="https://sites.cimplebox.com/events/event.aspx?s=3291&amp\;c=1650&amp\;eid=195938&amp\;r=0.1358581">https://sites.cimplebox.com/events/event.aspx?s=3291&amp\;c=1650&amp\;eid=195938&amp\;r=0.1358581</a></p>\n\n<p><strong>Cancellations:</strong>&nbsp\;Cancellations made within 48 hours are subject only to a credit. We are sorry but there will be no refunds on no-shows.<br />\n<strong>Alcohol:</strong>&nbsp\;Because this event is at a beer cafe\, attendance and&nbsp\;alcohol consumption is permitted only for adults 21 and over. Please have an ID available.<br />\n<strong>Images:</strong>&nbsp\;Feel like going rogue? The instructor will teach the image featured on the calendar step by step\, but they are happy to answer questions if you choose to paint something else. Painting a different image than the one being taught is NOT recommended for beginners.<br />\n<strong>Promo codes:</strong>&nbsp\;Promo codes invalid Friday through Saturday\, as well as at off-site events and special events.<br />\n<strong>Event Minimums:</strong>&nbsp\;This event needs 10 registrations to run. We will reach out&nbsp\;prior to the event if there is a chance of cancellation.</p>\n</div>\n
LOCATION:Beermiscuous 2812 N Lincoln Ave Chicago\, IL 60657
UID:e.1819.4850
SEQUENCE:3
DTSTAMP:20260420T065214Z
URL:https://members.lakeviewroscoevillage.org/events/details/arts-crafts-at-beermiscuous-cheers-to-chicago-w-beer-flight-12-13-2016-4850
END:VEVENT

END:VCALENDAR
