BEGIN:VCALENDAR
VERSION:2.0
PRODID:-//ChamberMaster//Event Calendar 2.0//EN
METHOD:PUBLISH
X-PUBLISHED-TTL:P3D
REFRESH-INTERVAL:P3D
CALSCALE:GREGORIAN
BEGIN:VEVENT
DTSTART;VALUE=DATE:20170801
DTEND;VALUE=DATE:20170901
TRANSP:TRANSPARENT
X-MICROSOFT-CDO-ALLDAYEVENT:TRUE
SUMMARY:August Sunglass Sale!
DESCRIPTION:Our annual August Sunglass Sale is back! Discounts start at 10% and go up to 75%!!!! Stop your squinting and snag a great new pair of sunnies before the sale\, and summer\, are over! \n\nP.S. We have precription and non-prescription sunglasses for EVERYONE: men\, women AND kiddos!
X-ALT-DESC;FMTTYPE=text/html:<span style="color:rgb(75\, 79\, 86)\; font-family:helvetica\,arial\,sans-serif\; font-size:14px">Our annual August Sunglass Sale is back! Discounts start at 10% and go up to 75%!!!! Stop your squinting and snag a great new pair of sunnies before the sale\, and summer\, are over!&nbsp\;</span><br />\n<span style="color:rgb(75\, 79\, 86)\; font-family:helvetica\,arial\,sans-serif\; font-size:14px">P.S. We have precription and non-prescription sunglasses for EVERYONE: men\, women AND kiddos!</span>
LOCATION:EYE SPY OPTICAL 3350 N LINCOLN AVE CHICAGO IL 60657
UID:e.1819.5218
SEQUENCE:3
DTSTAMP:20260419T123555Z
URL:https://members.lakeviewroscoevillage.org/events/details/august-sunglass-sale-08-01-2017-5218
END:VEVENT

END:VCALENDAR
