BEGIN:VCALENDAR
VERSION:2.0
PRODID:-//ChamberMaster//Event Calendar 2.0//EN
METHOD:PUBLISH
X-PUBLISHED-TTL:P3D
REFRESH-INTERVAL:P3D
CALSCALE:GREGORIAN
BEGIN:VEVENT
DTSTART:20140117T000000Z
DTEND:20140117T030000Z
X-MICROSOFT-CDO-ALLDAYEVENT:FALSE
SUMMARY:Babies 101 Class at IL Masonic
DESCRIPTION:Pregnancy/Newborn Care / Illinois Masonic Med Ctr\n\n				Babies 101 Class \n			\n				 \n		\n		\n			\n				Expectant parents and new parents\, come learn baby basics about newborn characteristics\, bonding\, baby care\, growth and development and how to keep your baby healthy.\n\n				\n\n				You'll walk away feeling more confident about caring for your newborn. The classes meet one Thursday evening per month from 6:00pm-9:00pm. The fee is per couple.\n\n				\n\n				The classes will be held at Advocate Illinois Masonic Medical Center\, 836 W Wellington Ave\, Chicago\, IL 60657.\n\n				\n\n				Please stop at the information desk located in the main lobby for room location. Registration is required.\n\n				\n\n				REFUND POLICY: There is a 25% cancellation fee\; No refunds after class has started (except for medical reasons). Class code 9B12.
X-ALT-DESC;FMTTYPE=text/html:<table border="0" cellpadding="2" cellspacing="0" width="100%">\n	<tbody>\n		<tr>\n			<td colspan="3" valign="top">\n				<span class="pubbold">Pregnancy/Newborn Care / Illinois Masonic Med Ctr</span><!--end pubbold--><br />\n				<span class="pubboldcolor2">Babies 101 Class </span><!--end pubboldcolor2--></td>\n			<td valign="top">\n				&nbsp\;</td>\n		</tr>\n		<tr>\n			<td colspan="4">\n				<span class="pubbody">Expectant parents and new parents\, come learn baby basics about newborn characteristics\, bonding\, baby care\, growth and development and how to keep your baby healthy.<br />\n				<br />\n				You&#39\;ll walk away feeling more confident about caring for your newborn. The classes meet one Thursday evening per month from 6:00pm-9:00pm. The fee is per couple.<br />\n				<br />\n				The classes will be held at Advocate Illinois Masonic Medical Center\, 836 W Wellington Ave\, Chicago\, IL 60657.<br />\n				<br />\n				Please stop at the information desk located in the main lobby for room location. Registration is required.<br />\n				<br />\n				REFUND POLICY: There is a 25% cancellation fee\; No refunds after class has started (except for medical reasons). Class code 9B12.</span></td>\n		</tr>\n	</tbody>\n</table>\n
LOCATION:Advocate Illinois Masonic Medical Center\, 836 W Wellington Ave\, Chicago\, IL 60657
UID:e.1819.161
SEQUENCE:3
DTSTAMP:20260424T172632Z
URL:https://members.lakeviewroscoevillage.org/events/details/babies-101-class-at-il-masonic-01-16-2014-161
END:VEVENT

END:VCALENDAR
