BEGIN:VCALENDAR
VERSION:2.0
PRODID:-//ChamberMaster//Event Calendar 2.0//EN
METHOD:PUBLISH
X-PUBLISHED-TTL:P3D
REFRESH-INTERVAL:P3D
CALSCALE:GREGORIAN
BEGIN:VEVENT
DTSTART:20151118T010000Z
DTEND:20151118T023000Z
X-MICROSOFT-CDO-ALLDAYEVENT:FALSE
SUMMARY:Baby Food Basics
DESCRIPTION:Give your child the healthiest start in life! The baby and toddler stages are the perfect time to establish good feeding and eating habits for both you and your little one. Our classes give you the information and inspiration you need to get wholesome foods on the table and into those little bellies.
X-ALT-DESC;FMTTYPE=text/html:Give your child the healthiest start in life! The baby and toddler stages are the perfect time to establish good feeding and eating habits for both you and your little one. Our classes give you the information and inspiration you need to get wholesome foods on the table and into those little bellies.
LOCATION:The Kids' Table 2864 N Lincoln Ave
UID:e.1819.2247
SEQUENCE:3
DTSTAMP:20260422T223306Z
URL:https://members.lakeviewroscoevillage.org/events/details/baby-food-basics-11-17-2015-2247
END:VEVENT

END:VCALENDAR
