BEGIN:VCALENDAR
VERSION:2.0
PRODID:-//ChamberMaster//Event Calendar 2.0//EN
METHOD:PUBLISH
X-PUBLISHED-TTL:P3D
REFRESH-INTERVAL:P3D
CALSCALE:GREGORIAN
BEGIN:VEVENT
DTSTART:20140115T000000Z
DTEND:20140115T020000Z
X-MICROSOFT-CDO-ALLDAYEVENT:FALSE
SUMMARY:Baby Safety and CPR Class at IL Masonic
DESCRIPTION:Baby Safety and CPR Class \n			\n				 \n		\n		\n			\n				\n\n				Nothing is more important than keeping your child safe. This two-hour workshop addresses common household hazards and injury-prevention techniques.\n\n				\n\n				Topics include reducing the risk of sudden infant death syndrome (SIDS)\, car seat safety\, poison prevention and infant CPR. The class is led by a basic life support instructor with the American Heart Association.\n\n				\n\n				The course is offered in English and Spanish. Two caregivers may attend under one registration for $25. Registration is required. Be sure to register one family member only. There is a $25.00 charge for the class.\n\n				\n\n				REFUND POLICY: There is a 25% cancellation fee. No refunds after class has started (except for medical reasons).\n\n				\n\n				Class Location: Advocate Illinois Masonic Hospital\, 836 W Wellington\, Chicago\, IL 60657. Class code: 9C14
X-ALT-DESC;FMTTYPE=text/html:<table border="0" cellpadding="2" cellspacing="0" width="100%">\n	<tbody>\n		<tr>\n			<td colspan="3" valign="top">\n				<span class="pubboldcolor2">Baby Safety and CPR Class </span><!--end pubboldcolor2--></td>\n			<td valign="top">\n				&nbsp\;</td>\n		</tr>\n		<tr>\n			<td colspan="4">\n				<br />\n				<span class="pubbody">Nothing is more important than keeping your child safe. This two-hour workshop addresses common household hazards and injury-prevention techniques.<br />\n				<br />\n				Topics include reducing the risk of sudden infant death syndrome (SIDS)\, car seat safety\, poison prevention and infant CPR. The class is led by a basic life support instructor with the American Heart Association.<br />\n				<br />\n				The course is offered in English and Spanish. Two caregivers may attend under one registration for $25. Registration is required. Be sure to register one family member only. There is a $25.00 charge for the class.<br />\n				<br />\n				REFUND POLICY: There is a 25% cancellation fee. No refunds after class has started (except for medical reasons).<br />\n				<br />\n				Class Location: Advocate Illinois Masonic Hospital\, 836 W Wellington\, Chicago\, IL 60657. Class code: 9C14</span></td>\n		</tr>\n	</tbody>\n</table>\n
LOCATION:Advocate Illinois Masonic Hospital\, 836 W Wellington\, Chicago\, IL 60657
UID:e.1819.163
SEQUENCE:3
DTSTAMP:20260424T172900Z
URL:https://members.lakeviewroscoevillage.org/events/details/baby-safety-and-cpr-class-at-il-masonic-01-14-2014-163
END:VEVENT

END:VCALENDAR
